BEGIN:VCALENDAR
VERSION:2.0
PRODID:-//Events | FID-Recht//NONSGML Events//EN
CALSCALE:GREGORIAN
X-ORIGINAL-URL:https://events.intrecht.de/termine/
X-WR-CALDESC:Events | FID-Recht - Events
BEGIN:VEVENT
UID:20200603T1418Z-1591193923.3362-EO-587-1@172.16.200.141
STATUS:CONFIRMED
DTSTAMP:20260425T182944Z
CREATED:20231025T093930Z
LAST-MODIFIED:20231025T093930Z
DTSTART;VALUE=DATE:20231108
DTEND;VALUE=DATE:20231109
SUMMARY: Collective Equality: Human Rights and Democracy in Ethno-National 
 Conflicts (Book discussion)
DESCRIPTION: 8.11.2023 / Online und Heidelberg https://www.mpil.de/en/pub/r
 esearch-interaction/discussion-and-working-formats/discussion-groups/human-
 rights.cfm
X-ALT-DESC;FMTTYPE=text/html: <p>8.11.2023 / Online und Heidelberg</p><p><a
  href="https://www.mpil.de/en/pub/research-interaction/discussion-and-worki
 ng-formats/discussion-groups/human-rights.cfm">https://www.mpil.de/en/pub/r
 esearch-interaction/discussion-and-working-formats/discussion-groups/human-
 rights.cfm</a></p><p>[av_button label='iCal-Export' link='./feed/eo-events'
  link_target='' size='small' position='center' label_display='' title_attr=
 '' icon_select='yes' icon='ue85b' font='entypo-fontello' color='custom' cus
 tom_bg='#b5123e' custom_font='#ffffff' av_uid='' id='' custom_class='' admi
 n_preview_bg='']</p>
CATEGORIES:Europäisches / Internationales Recht
LOCATION:Online
GEO:0.000000;0.000000
ORGANIZER;CN="ViFa-Recht":MAILTO:vifa-recht@sbb.spk-berlin.de
URL;VALUE=URI:https://events.intrecht.de/termine/termin/collective-equality
 -human-rights-and-democracy-in-ethno-national-conflicts-book-discussion/
END:VEVENT
BEGIN:VTIMEZONE
TZID:Europe/Berlin
BEGIN:STANDARD
TZOFFSETFROM:+0200
TZOFFSETTO:+0100
DTSTART:20231029T010000
TZNAME:CET
END:STANDARD
END:VTIMEZONE
END:VCALENDAR
