BEGIN:VCALENDAR
VERSION:2.0
PRODID:-//Events | FID-Recht//NONSGML Events//EN
CALSCALE:GREGORIAN
X-ORIGINAL-URL:https://events.intrecht.de/termine/
X-WR-CALDESC:Events | FID-Recht - Events
BEGIN:VEVENT
UID:20200603T1418Z-1591193923.3362-EO-587-1@172.16.200.141
STATUS:CONFIRMED
DTSTAMP:20260422T154249Z
CREATED:20240508T070530Z
LAST-MODIFIED:20240508T070530Z
DTSTART;VALUE=DATE:20241121
DTEND;VALUE=DATE:20241123
SUMMARY: Collective actions on Environmental\, Social and Governance topics
  (Workshop)
DESCRIPTION: 21.-22.11.2024 / Amsterdam (Einreichungsfrist: 1.7.2024) https
 ://conflictoflaws.net/News/2024/04/Call-for-papers-for-workshop-on-ESG-coll
 ective-action-in-Amsterdam-21-and-22-Nov-2024.pdf
X-ALT-DESC;FMTTYPE=text/html: <p>21.-22.11.2024 / Amsterdam <strong>(Einrei
 chungsfrist: 1.7.2024)</strong></p><p><a href="https://conflictoflaws.net/N
 ews/2024/04/Call-for-papers-for-workshop-on-ESG-collective-action-in-Amster
 dam-21-and-22-Nov-2024.pdf">https://conflictoflaws.net/News/2024/04/Call-fo
 r-papers-for-workshop-on-ESG-collective-action-in-Amsterdam-21-and-22-Nov-2
 024.pdf</a></p><p>[av_button label='iCal-Export' link='./feed/eo-events' li
 nk_target='' size='small' position='center' label_display='' title_attr='' 
 icon_select='yes' icon='ue85b' font='entypo-fontello' color='custom' custom
 _bg='#b5123e' custom_font='#ffffff' av_uid='' id='' custom_class='' admin_p
 review_bg='']</p>
CATEGORIES:Recht interdisziplinär
LOCATION:Ausland
GEO:0.000000;0.000000
ORGANIZER;CN="ViFa-Recht":MAILTO:vifa-recht@sbb.spk-berlin.de
URL;VALUE=URI:https://events.intrecht.de/termine/termin/collective-actions-
 on-environmental-social-and-governance-topics-workshop/
END:VEVENT
BEGIN:VTIMEZONE
TZID:Europe/Berlin
BEGIN:STANDARD
TZOFFSETFROM:+0200
TZOFFSETTO:+0100
DTSTART:20241027T010000
TZNAME:CET
END:STANDARD
END:VTIMEZONE
END:VCALENDAR
