BEGIN:VCALENDAR
VERSION:2.0
PRODID:-//Events | FID-Recht//NONSGML Events//EN
CALSCALE:GREGORIAN
X-ORIGINAL-URL:https://events.intrecht.de/termine/
X-WR-CALDESC:Events | FID-Recht - Events
BEGIN:VEVENT
UID:20200603T1418Z-1591193923.3362-EO-587-1@172.16.200.141
STATUS:CONFIRMED
DTSTAMP:20260422T154611Z
CREATED:20240503T103719Z
LAST-MODIFIED:20240503T103719Z
DTSTART;VALUE=DATE:20240620
DTEND;VALUE=DATE:20240621
SUMMARY: Collaborative Workshop for PhD Candidates and Early Career Academi
 cs in Labour Law\, Public Law\, Migration & Asylum\, and Human Rights
DESCRIPTION: 20.6.2024 / Durham (Einreichungsfrist: 16.5.2024) http://www.l
 abourlawresearch.net/events/collaborative-workshop-phd-candidates-and-early
 -career-academics-labour-law-public-law
X-ALT-DESC;FMTTYPE=text/html: <p>20.6.2024 / Durham <strong>(Einreichungsfr
 ist: 16.5.2024)</strong></p><p><a href="http://www.labourlawresearch.net/ev
 ents/collaborative-workshop-phd-candidates-and-early-career-academics-labou
 r-law-public-law">http://www.labourlawresearch.net/events/collaborative-wor
 kshop-phd-candidates-and-early-career-academics-labour-law-public-law</a></
 p><p>[av_button label='iCal-Export' link='./feed/eo-events' link_target='' 
 size='small' position='center' label_display='' title_attr='' icon_select='
 yes' icon='ue85b' font='entypo-fontello' color='custom' custom_bg='#b5123e'
  custom_font='#ffffff' av_uid='' id='' custom_class='' admin_preview_bg='']
 </p>
CATEGORIES:Europäisches / Internationales Recht
LOCATION:Ausland
GEO:0.000000;0.000000
ORGANIZER;CN="ViFa-Recht":MAILTO:vifa-recht@sbb.spk-berlin.de
URL;VALUE=URI:https://events.intrecht.de/termine/termin/collaborative-works
 hop-for-phd-candidates-and-early-career-academics-in-labour-law-public-law-
 migration-asylum-and-human-rights/
END:VEVENT
BEGIN:VTIMEZONE
TZID:Europe/Berlin
BEGIN:DAYLIGHT
TZOFFSETFROM:+0100
TZOFFSETTO:+0200
DTSTART:20240331T010000
TZNAME:CEST
END:DAYLIGHT
END:VTIMEZONE
END:VCALENDAR
