BEGIN:VCALENDAR
VERSION:2.0
PRODID:-//Events | FID-Recht//NONSGML Events//EN
CALSCALE:GREGORIAN
X-ORIGINAL-URL:https://events.intrecht.de/termine/
X-WR-CALDESC:Events | FID-Recht - Events
BEGIN:VEVENT
UID:20210801T1444Z-1627829066.4778-EO-4098-1@172.16.200.141
STATUS:CONFIRMED
DTSTAMP:20260422T125208Z
CREATED:20210729T090248Z
LAST-MODIFIED:20210823T153219Z
DTSTART;VALUE=DATE:20210906
DTEND;VALUE=DATE:20210909
SUMMARY: Coerced Labour in the Early Modern World (1500-1800) – Definitions
 \, Justifications and Resistances (Online-Tagung)
DESCRIPTION: 6.-8.9.2021\, Online 2021 Conference (ox.ac.uk)  
X-ALT-DESC;FMTTYPE=text/html: <p>6.-8.9.2021\, Online</p><p><a href="https:
 //isih.history.ox.ac.uk/?page_id=6536">2021 Conference (ox.ac.uk)</a></p><p
 > </p><p>[av_button label='iCal-Export' link='./feed/eo-events' link_target
 ='' size='small' position='center' label_display='' title_attr='' icon_sele
 ct='yes' icon='ue85b' font='entypo-fontello' color='custom' custom_bg='#b51
 23e' custom_font='#ffffff' av_uid='' id='' custom_class='' admin_preview_bg
 ='']</p>
CATEGORIES:Recht interdisziplinär
LOCATION:Online
GEO:0.000000;0.000000
ORGANIZER;CN="ViFa-Recht":MAILTO:vifa-recht@sbb.spk-berlin.de
URL;VALUE=URI:https://events.intrecht.de/termine/termin/coerced-labour-in-t
 he-early-modern-world-1500-1800-definitions-justifications-and-resistances-
 tagung/
END:VEVENT
BEGIN:VTIMEZONE
TZID:Europe/Berlin
BEGIN:DAYLIGHT
TZOFFSETFROM:+0100
TZOFFSETTO:+0200
DTSTART:20210328T010000
TZNAME:CEST
END:DAYLIGHT
END:VTIMEZONE
END:VCALENDAR
