BEGIN:VCALENDAR
VERSION:2.0
PRODID:-//Events | FID-Recht//NONSGML Events//EN
CALSCALE:GREGORIAN
X-ORIGINAL-URL:https://events.intrecht.de/termine/
X-WR-CALDESC:Events | FID-Recht - Events
BEGIN:VEVENT
UID:20220319T1635Z-1647707721.7638-EO-4525-1@172.16.200.141
STATUS:CONFIRMED
DTSTAMP:20260421T102322Z
CREATED:20220316T190822Z
LAST-MODIFIED:20220316T190822Z
DTSTART;VALUE=DATE:20220322
DTEND;VALUE=DATE:20220323
SUMMARY:  CoCoLaw (Comparative Colonial Law) Launch Seminar
DESCRIPTION: 22.3.2022\, Helsinki/Online https://www.lyyti.fi/reg/CoCoLaw_L
 aunch_Seminar_Registration  
X-ALT-DESC;FMTTYPE=text/html: <p>22.3.2022\, Helsinki/Online</p><p><a href=
 "https://www.lyyti.fi/reg/CoCoLaw_Launch_Seminar_Registration">https://www.
 lyyti.fi/reg/CoCoLaw_Launch_Seminar_Registration</a></p><p> </p><p>[av_butt
 on label='iCal-Export' link='./feed/eo-events' link_target='' size='small' 
 position='center' label_display='' title_attr='' icon_select='yes' icon='ue
 85b' font='entypo-fontello' color='custom' custom_bg='#b5123e' custom_font=
 '#ffffff' av_uid='' id='' custom_class='' admin_preview_bg='']</p>
CATEGORIES:Recht interdisziplinär
LOCATION:Online
GEO:0.000000;0.000000
ORGANIZER;CN="ViFa-Recht":MAILTO:vifa-recht@sbb.spk-berlin.de
URL;VALUE=URI:https://events.intrecht.de/termine/termin/cocolaw-comparative
 -colonial-law-launch-seminar/
END:VEVENT
BEGIN:VTIMEZONE
TZID:Europe/Berlin
BEGIN:STANDARD
TZOFFSETFROM:+0200
TZOFFSETTO:+0100
DTSTART:20211031T010000
TZNAME:CET
END:STANDARD
END:VTIMEZONE
END:VCALENDAR
