BEGIN:VCALENDAR
VERSION:2.0
PRODID:-//Events | FID-Recht//NONSGML Events//EN
CALSCALE:GREGORIAN
X-ORIGINAL-URL:https://events.intrecht.de/termine/
X-WR-CALDESC:Events | FID-Recht - Events
BEGIN:VEVENT
UID:20200603T1418Z-1591193923.3362-EO-587-1@172.16.200.141
STATUS:CONFIRMED
DTSTAMP:20260423T004304Z
CREATED:20240708T092236Z
LAST-MODIFIED:20240708T092236Z
DTSTART;VALUE=DATE:20240719
DTEND;VALUE=DATE:20240720
SUMMARY: Climate Protests\, Criminal Law\, and the Necessity Defence: A Tra
 nsnational and Comparative Dialogue (Online Event)
DESCRIPTION: 19.7.2024 / Online https://law.mpg.de/event/climate-protests-c
 riminal-law-and-the-necessity-defence-a-transnational-and-comparative-dialo
 gue/
X-ALT-DESC;FMTTYPE=text/html: <p>19.7.2024 / Online</p><p><a href="https://
 law.mpg.de/event/climate-protests-criminal-law-and-the-necessity-defence-a-
 transnational-and-comparative-dialogue/">https://law.mpg.de/event/climate-p
 rotests-criminal-law-and-the-necessity-defence-a-transnational-and-comparat
 ive-dialogue/</a></p><p>[av_button label='iCal-Export' link='./feed/eo-even
 ts' link_target='' size='small' position='center' label_display='' title_at
 tr='' icon_select='yes' icon='ue85b' font='entypo-fontello' color='custom' 
 custom_bg='#b5123e' custom_font='#ffffff' av_uid='' id='' custom_class='' a
 dmin_preview_bg='']</p>
CATEGORIES:Recht interdisziplinär
LOCATION:Online
GEO:0.000000;0.000000
ORGANIZER;CN="ViFa-Recht":MAILTO:vifa-recht@sbb.spk-berlin.de
URL;VALUE=URI:https://events.intrecht.de/termine/termin/climate-protests-cr
 iminal-law-and-the-necessity-defence-a-transnational-and-comparative-dialog
 ue-online-event/
END:VEVENT
BEGIN:VTIMEZONE
TZID:Europe/Berlin
BEGIN:DAYLIGHT
TZOFFSETFROM:+0100
TZOFFSETTO:+0200
DTSTART:20240331T010000
TZNAME:CEST
END:DAYLIGHT
END:VTIMEZONE
END:VCALENDAR
