BEGIN:VCALENDAR
VERSION:2.0
PRODID:-//Events | FID-Recht//NONSGML Events//EN
CALSCALE:GREGORIAN
X-ORIGINAL-URL:https://events.intrecht.de/termine/
X-WR-CALDESC:Events | FID-Recht - Events
BEGIN:VEVENT
UID:20200603T1418Z-1591193923.3362-EO-587-1@172.16.200.141
STATUS:CONFIRMED
DTSTAMP:20260425T145841Z
CREATED:20231101T103944Z
LAST-MODIFIED:20231101T103944Z
DTSTART;VALUE=DATE:20231121
DTEND;VALUE=DATE:20231122
SUMMARY: Climate Change\, Human Rights\, and the Redirection of Global Capi
 tal Flows (Rhineland Lectures in International Law)
DESCRIPTION: 21.11.2023 / Online und Bonn https://www.jura.uni-bonn.de/aktu
 elles/institute-und-lehrstuehle/ansicht?tx_news_pi1%5Bnews%5D=3436&cHash=17
 a1fb14d3095fd7122763130f698b4e
X-ALT-DESC;FMTTYPE=text/html: <p>21.11.2023 / Online und Bonn</p><p><a href
 ="https://www.jura.uni-bonn.de/aktuelles/institute-und-lehrstuehle/ansicht?
 tx_news_pi1%5Bnews%5D=3436&cHash=17a1fb14d3095fd7122763130f698b4e">https://
 www.jura.uni-bonn.de/aktuelles/institute-und-lehrstuehle/ansicht?tx_news_pi
 1%5Bnews%5D=3436&cHash=17a1fb14d3095fd7122763130f698b4e</a></p><p>[av_butto
 n label='iCal-Export' link='./feed/eo-events' link_target='' size='small' p
 osition='center' label_display='' title_attr='' icon_select='yes' icon='ue8
 5b' font='entypo-fontello' color='custom' custom_bg='#b5123e' custom_font='
 #ffffff' av_uid='' id='' custom_class='' admin_preview_bg='']</p>
CATEGORIES:Europäisches / Internationales Recht
LOCATION:Online
GEO:0.000000;0.000000
ORGANIZER;CN="ViFa-Recht":MAILTO:vifa-recht@sbb.spk-berlin.de
URL;VALUE=URI:https://events.intrecht.de/termine/termin/climate-change-huma
 n-rights-and-the-redirection-of-global-capital-flows-rhineland-lectures-in-
 international-law/
END:VEVENT
BEGIN:VTIMEZONE
TZID:Europe/Berlin
BEGIN:STANDARD
TZOFFSETFROM:+0200
TZOFFSETTO:+0100
DTSTART:20231029T010000
TZNAME:CET
END:STANDARD
END:VTIMEZONE
END:VCALENDAR
