BEGIN:VCALENDAR
VERSION:2.0
PRODID:-//Events | FID-Recht//NONSGML Events//EN
CALSCALE:GREGORIAN
X-ORIGINAL-URL:https://events.intrecht.de/termine/
X-WR-CALDESC:Events | FID-Recht - Events
BEGIN:VEVENT
UID:20200603T1418Z-1591193923.3362-EO-587-1@172.16.200.141
STATUS:CONFIRMED
DTSTAMP:20260423T021011Z
CREATED:20250423T132452Z
LAST-MODIFIED:20250423T132452Z
DTSTART;VALUE=DATE:20250910
DTEND;VALUE=DATE:20250913
SUMMARY: Climate adaptation and resilience: legal avenues to prepare Europe
  for survival in a hothouse world (Conference)
DESCRIPTION: 10.-12.9.2025 / Gent https://www.eelf.info/tl_files/uploads/Mi
 sc/EELF2025%20Call%20for%20abstracts.pdf
X-ALT-DESC;FMTTYPE=text/html: <p>10.-12.9.2025 / Gent</p><p><a href="https:
 //www.eelf.info/tl_files/uploads/Misc/EELF2025%20Call%20for%20abstracts.pdf
 ">https://www.eelf.info/tl_files/uploads/Misc/EELF2025%20Call%20for%20abstr
 acts.pdf</a></p><p>[av_button label='iCal-Export' link='./feed/eo-events' l
 ink_target='' size='small' position='center' label_display='' title_attr=''
  icon_select='yes' icon='ue85b' font='entypo-fontello' color='custom' custo
 m_bg='#b5123e' custom_font='#ffffff' av_uid='' id='' custom_class='' admin_
 preview_bg='']</p>
CATEGORIES:Europäisches / Internationales Recht
LOCATION:Ausland
GEO:0.000000;0.000000
ORGANIZER;CN="ViFa-Recht":MAILTO:vifa-recht@sbb.spk-berlin.de
URL;VALUE=URI:https://events.intrecht.de/termine/termin/climate-adaptation-
 and-resilience-legal-avenues-to-prepare-europe-for-survival-in-a-hothouse-w
 orld-conference/
END:VEVENT
BEGIN:VTIMEZONE
TZID:Europe/Berlin
BEGIN:DAYLIGHT
TZOFFSETFROM:+0100
TZOFFSETTO:+0200
DTSTART:20250330T010000
TZNAME:CEST
END:DAYLIGHT
END:VTIMEZONE
END:VCALENDAR
