BEGIN:VCALENDAR
VERSION:2.0
PRODID:-//Events | FID-Recht//NONSGML Events//EN
CALSCALE:GREGORIAN
X-ORIGINAL-URL:https://events.intrecht.de/termine/
X-WR-CALDESC:Events | FID-Recht - Events
BEGIN:VEVENT
UID:20200603T1418Z-1591193923.3362-EO-587-1@172.16.200.141
STATUS:CONFIRMED
DTSTAMP:20260425T183110Z
CREATED:20230629T053054Z
LAST-MODIFIED:20230629T053054Z
DTSTART;VALUE=DATE:20240215
DTEND;VALUE=DATE:20240217
SUMMARY: Clash of Normativities – Zu einer Soziologie der Erwartungszusamme
 nhänge (Workshop)
DESCRIPTION: 15.-16.2.2024 / Marburg (Frist für Einreichungen: 30.9.2023) h
 ttps://www.uni-marburg.de/de/icwc/aktuelles/nachrichten/con-cfp_final.pdf
X-ALT-DESC;FMTTYPE=text/html: <p>15.-16.2.2024 / Marburg <strong>(Frist für
  Einreichungen: 30.9.2023)</strong></p><p><a href="https://www.uni-marburg.
 de/de/icwc/aktuelles/nachrichten/con-cfp_final.pdf">https://www.uni-marburg
 .de/de/icwc/aktuelles/nachrichten/con-cfp_final.pdf</a></p><p>[av_button la
 bel='iCal-Export' link='./feed/eo-events' link_target='' size='small' posit
 ion='center' label_display='' title_attr='' icon_select='yes' icon='ue85b' 
 font='entypo-fontello' color='custom' custom_bg='#b5123e' custom_font='#fff
 fff' av_uid='' id='' custom_class='' admin_preview_bg='']</p>
CATEGORIES:Recht interdisziplinär
LOCATION:Inland
GEO:0.000000;0.000000
ORGANIZER;CN="ViFa-Recht":MAILTO:vifa-recht@sbb.spk-berlin.de
URL;VALUE=URI:https://events.intrecht.de/termine/termin/clash-of-normativit
 ies-zu-einer-soziologie-der-erwartungszusammenhaenge-workshop/
END:VEVENT
BEGIN:VTIMEZONE
TZID:Europe/Berlin
BEGIN:STANDARD
TZOFFSETFROM:+0200
TZOFFSETTO:+0100
DTSTART:20231029T010000
TZNAME:CET
END:STANDARD
END:VTIMEZONE
END:VCALENDAR
