BEGIN:VCALENDAR
VERSION:2.0
PRODID:-//Events | FID-Recht//NONSGML Events//EN
CALSCALE:GREGORIAN
X-ORIGINAL-URL:https://events.intrecht.de/termine/
X-WR-CALDESC:Events | FID-Recht - Events
BEGIN:VEVENT
UID:20220528T0022Z-1653697345.8912-EO-4046-1@172.16.200.151
STATUS:CONFIRMED
DTSTAMP:20260421T102834Z
CREATED:20220524T131353Z
LAST-MODIFIED:20220524T131353Z
DTSTART;VALUE=DATE:20220531
DTEND;VALUE=DATE:20220601
SUMMARY: Claiming a Common World? Legal Mobilization and Vulnerability in t
 he Case of Klimaseniorinnen (mit Petra Sußner) (Vortrag)
DESCRIPTION: 31.5.2022\, Hamburg Hamburg Lecture Series in Public & Compara
 tive Law – Schwarzes Brett der Fakultät für Rechtswissenschaft (uni-hamburg
 .de)  
X-ALT-DESC;FMTTYPE=text/html: <p>31.5.2022\, Hamburg</p><p><a href="https:/
 /juraboard.blogs.uni-hamburg.de/2022/03/30/hamburg-lecture-series-in-public
 -comparative-law/">Hamburg Lecture Series in Public & Comparative Law – Sch
 warzes Brett der Fakultät für Rechtswissenschaft (uni-hamburg.de)</a></p><p
 > </p><p>[av_button label='iCal-Export' link='./feed/eo-events' link_target
 ='' size='small' position='center' label_display='' title_attr='' icon_sele
 ct='yes' icon='ue85b' font='entypo-fontello' color='custom' custom_bg='#b51
 23e' custom_font='#ffffff' av_uid='' id='' custom_class='' admin_preview_bg
 ='']</p>
CATEGORIES:Recht interdisziplinär
ORGANIZER;CN="ViFa-Recht":MAILTO:vifa-recht@sbb.spk-berlin.de
URL;VALUE=URI:https://events.intrecht.de/termine/termin/claiming-a-common-w
 orld-legal-mobilization-and-vulnerability-in-the-case-of-klimaseniorinnen-m
 it-petra-sussner-vortrag/
END:VEVENT
BEGIN:VTIMEZONE
TZID:Europe/Berlin
BEGIN:DAYLIGHT
TZOFFSETFROM:+0100
TZOFFSETTO:+0200
DTSTART:20220327T010000
TZNAME:CEST
END:DAYLIGHT
END:VTIMEZONE
END:VCALENDAR
