BEGIN:VCALENDAR
VERSION:2.0
PRODID:-//Events | FID-Recht//NONSGML Events//EN
CALSCALE:GREGORIAN
X-ORIGINAL-URL:https://events.intrecht.de/termine/
X-WR-CALDESC:Events | FID-Recht - Events
BEGIN:VEVENT
UID:20210302T1010Z-1614679810.9413-EO-3484-1@172.16.200.141
STATUS:CONFIRMED
DTSTAMP:20260421T184052Z
CREATED:20210219T135112Z
LAST-MODIFIED:20210219T135112Z
DTSTART;VALUE=DATE:20210304
DTEND;VALUE=DATE:20210304
SUMMARY: Citizenship and Human Rights (mit Kelly Staples) (Online-Workshop)
DESCRIPTION: 4.3.2021 (Anmeldefrist: 19.2.2021) https://law.mpg.de/events/2
 021-03-04-teaching-session-citizenship-and-human-rights/  
X-ALT-DESC;FMTTYPE=text/html: <p>4.3.2021 (Anmeldefrist: 19.2.2021)</p><p><
 a href="https://law.mpg.de/events/2021-03-04-teaching-session-citizenship-a
 nd-human-rights/">https://law.mpg.de/events/2021-03-04-teaching-session-cit
 izenship-and-human-rights/</a></p><p> </p><p>[av_button label='iCal-Export'
  link='./feed/eo-events' link_target='' size='small' position='center' labe
 l_display='' title_attr='' icon_select='yes' icon='ue85b' font='entypo-font
 ello' color='custom' custom_bg='#b5123e' custom_font='#ffffff' av_uid='' id
 ='' custom_class='' admin_preview_bg='']</p>
CATEGORIES:Europäisches / Internationales Recht
LOCATION:Online
GEO:0.000000;0.000000
ORGANIZER;CN="ViFa-Recht":MAILTO:vifa-recht@sbb.spk-berlin.de
URL;VALUE=URI:https://events.intrecht.de/termine/termin/citizenship-and-hum
 an-rights-mit-kelly-staples-online-workshop/
END:VEVENT
BEGIN:VTIMEZONE
TZID:Europe/Berlin
BEGIN:STANDARD
TZOFFSETFROM:+0200
TZOFFSETTO:+0100
DTSTART:20201025T010000
TZNAME:CET
END:STANDARD
END:VTIMEZONE
END:VCALENDAR
