BEGIN:VCALENDAR
VERSION:2.0
PRODID:-//Events | FID-Recht//NONSGML Events//EN
CALSCALE:GREGORIAN
X-ORIGINAL-URL:https://events.intrecht.de/termine/
X-WR-CALDESC:Events | FID-Recht - Events
BEGIN:VEVENT
UID:20220626T0837Z-1656232638.5081-EO-4301-1@172.16.200.151
STATUS:CONFIRMED
DTSTAMP:20260421T102729Z
CREATED:20220623T133943Z
LAST-MODIFIED:20220623T133943Z
DTSTART;VALUE=DATE:20220701
DTEND;VALUE=DATE:20220703
SUMMARY: Christus vor dem Hohen Rat. Religion und Recht im Kirchenraum des 
 17. Jhs. (Tagung)
DESCRIPTION: 1.-2.7.2022\, Rathenow Christus vor dem Hohen Rat. Religion un
 d Recht im Kirchenraum des 17. Jhs. | H-Soz-Kult. Kommunikation und Fachinf
 ormation für die Geschichtswissenschaften | Geschichte im Netz | History in
  the web (hsozkult.de)  
X-ALT-DESC;FMTTYPE=text/html: <p>1.-2.7.2022\, Rathenow</p><p><a href="http
 s://www.hsozkult.de/event/id/event-118044">Christus vor dem Hohen Rat. Reli
 gion und Recht im Kirchenraum des 17. Jhs. | H-Soz-Kult. Kommunikation und 
 Fachinformation für die Geschichtswissenschaften | Geschichte im Netz | His
 tory in the web (hsozkult.de)</a></p><p> </p><p>[av_button label='iCal-Expo
 rt' link='./feed/eo-events' link_target='' size='small' position='center' l
 abel_display='' title_attr='' icon_select='yes' icon='ue85b' font='entypo-f
 ontello' color='custom' custom_bg='#b5123e' custom_font='#ffffff' av_uid=''
  id='' custom_class='' admin_preview_bg='']</p>
CATEGORIES:Recht interdisziplinär
LOCATION:Inland
GEO:0.000000;0.000000
ORGANIZER;CN="ViFa-Recht":MAILTO:vifa-recht@sbb.spk-berlin.de
URL;VALUE=URI:https://events.intrecht.de/termine/termin/christus-vor-dem-ho
 hen-rat-religion-und-recht-im-kirchenraum-des-17-jhs-tagung/
END:VEVENT
BEGIN:VTIMEZONE
TZID:Europe/Berlin
BEGIN:DAYLIGHT
TZOFFSETFROM:+0100
TZOFFSETTO:+0200
DTSTART:20220327T010000
TZNAME:CEST
END:DAYLIGHT
END:VTIMEZONE
END:VCALENDAR
