BEGIN:VCALENDAR
VERSION:2.0
PRODID:-//Events | FID-Recht//NONSGML Events//EN
CALSCALE:GREGORIAN
X-ORIGINAL-URL:https://events.intrecht.de/termine/
X-WR-CALDESC:Events | FID-Recht - Events
BEGIN:VEVENT
UID:20200602T0945Z-1591091115.9737-EO-599-1@172.16.200.141
STATUS:CONFIRMED
DTSTAMP:20260423T034524Z
CREATED:20260318T125604Z
LAST-MODIFIED:20260318T125604Z
DTSTART;VALUE=DATE:20260407
DTEND;VALUE=DATE:20260408
SUMMARY: Choice of Law for Employment Contracts in Africa: Rethinking the E
 U Methodology in an African Context (Virtual Workshop)
DESCRIPTION: 7.4.2026 / Online https://events.mpipriv.de/b?p=IPR_Workshop_w
 ith_Chukwuma_Okoli
X-ALT-DESC;FMTTYPE=text/html: <p>7.4.2026 / Online</p><p><a href="https://e
 vents.mpipriv.de/b?p=IPR_Workshop_with_Chukwuma_Okoli">https://events.mpipr
 iv.de/b?p=IPR_Workshop_with_Chukwuma_Okoli</a></p><p>[av_button label='iCal
 -Export' link='./feed/eo-events' link_target='' size='small' position='cent
 er' label_display='' title_attr='' icon_select='yes' icon='ue85b' font='ent
 ypo-fontello' color='custom' custom_bg='#b5123e' custom_font='#ffffff' av_u
 id='' id='' custom_class='' admin_preview_bg='']</p>
CATEGORIES:Recht interdisziplinär
LOCATION:Online
GEO:0.000000;0.000000
ORGANIZER;CN="ViFa-Recht":MAILTO:vifa-recht@sbb.spk-berlin.de
URL;VALUE=URI:https://events.intrecht.de/termine/termin/choice-of-law-for-e
 mployment-contracts-in-africa-rethinking-the-eu-methodology-in-an-african-c
 ontext-virtual-workshop/
END:VEVENT
BEGIN:VTIMEZONE
TZID:Europe/Berlin
BEGIN:DAYLIGHT
TZOFFSETFROM:+0100
TZOFFSETTO:+0200
DTSTART:20260329T010000
TZNAME:CEST
END:DAYLIGHT
END:VTIMEZONE
END:VCALENDAR
