BEGIN:VCALENDAR
VERSION:2.0
PRODID:-//Events | FID-Recht//NONSGML Events//EN
CALSCALE:GREGORIAN
X-ORIGINAL-URL:https://events.intrecht.de/termine/
X-WR-CALDESC:Events | FID-Recht - Events
BEGIN:VEVENT
UID:20221106T0621Z-1667715663.1951-EO-6901-1@172.16.200.151
STATUS:CONFIRMED
DTSTAMP:20260421T133708Z
CREATED:20221102T142959Z
LAST-MODIFIED:20221102T142959Z
DTSTART;VALUE=DATE:20221109
DTEND;VALUE=DATE:20221110
SUMMARY: Children’s Right to Vote – Should the Voting Age Be Lowered/Abolis
 hed? (Webinar)
DESCRIPTION: 9.11.2022 / Online https://www.legalscholars.ac.uk/event/webin
 ar-childrens-right-to-vote-should-the-voting-age-be-lowered-abolished/  
X-ALT-DESC;FMTTYPE=text/html: <p>9.11.2022 / Online</p><p><a href="https://
 www.legalscholars.ac.uk/event/webinar-childrens-right-to-vote-should-the-vo
 ting-age-be-lowered-abolished/">https://www.legalscholars.ac.uk/event/webin
 ar-childrens-right-to-vote-should-the-voting-age-be-lowered-abolished/</a><
 /p><p> </p><p>[av_button label='iCal-Export' link='./feed/eo-events' link_t
 arget='' size='small' position='center' label_display='' title_attr='' icon
 _select='yes' icon='ue85b' font='entypo-fontello' color='custom' custom_bg=
 '#b5123e' custom_font='#ffffff' av_uid='' id='' custom_class='' admin_previ
 ew_bg='']</p>
CATEGORIES:Recht interdisziplinär
LOCATION:Online
GEO:0.000000;0.000000
ORGANIZER;CN="ViFa-Recht":MAILTO:vifa-recht@sbb.spk-berlin.de
URL;VALUE=URI:https://events.intrecht.de/termine/termin/childrens-right-to-
 vote-should-the-voting-age-be-lowered-abolished-webinar/
END:VEVENT
BEGIN:VTIMEZONE
TZID:Europe/Berlin
BEGIN:STANDARD
TZOFFSETFROM:+0200
TZOFFSETTO:+0100
DTSTART:20221030T010000
TZNAME:CET
END:STANDARD
END:VTIMEZONE
END:VCALENDAR
