BEGIN:VCALENDAR
VERSION:2.0
PRODID:-//Events | FID-Recht//NONSGML Events//EN
CALSCALE:GREGORIAN
X-ORIGINAL-URL:https://events.intrecht.de/termine/
X-WR-CALDESC:Events | FID-Recht - Events
BEGIN:VEVENT
UID:20200603T1418Z-1591193923.3362-EO-587-1@172.16.200.141
STATUS:CONFIRMED
DTSTAMP:20260423T003301Z
CREATED:20250225T152446Z
LAST-MODIFIED:20250225T152446Z
DTSTART;VALUE=DATE:20250225
DTEND;VALUE=DATE:20250226
SUMMARY: Children and Persons with Disabilities: Research and Activism in M
 exico (Online Event)
DESCRIPTION: 25.2.2025 / Online https://law.mpg.de/event/children-and-perso
 ns-with-disabilities-research-and-activism-in-mexico/
X-ALT-DESC;FMTTYPE=text/html: <p>25.2.2025 / Online</p><p><a href="https://
 law.mpg.de/event/children-and-persons-with-disabilities-research-and-activi
 sm-in-mexico/">https://law.mpg.de/event/children-and-persons-with-disabilit
 ies-research-and-activism-in-mexico/</a></p><p>[av_button label='iCal-Expor
 t' link='./feed/eo-events' link_target='' size='small' position='center' la
 bel_display='' title_attr='' icon_select='yes' icon='ue85b' font='entypo-fo
 ntello' color='custom' custom_bg='#b5123e' custom_font='#ffffff' av_uid='' 
 id='' custom_class='' admin_preview_bg='']</p>
CATEGORIES:Recht interdisziplinär
LOCATION:Online
GEO:0.000000;0.000000
ORGANIZER;CN="ViFa-Recht":MAILTO:vifa-recht@sbb.spk-berlin.de
URL;VALUE=URI:https://events.intrecht.de/termine/termin/children-and-person
 s-with-disabilities-research-and-activism-in-mexico-online-event/
END:VEVENT
BEGIN:VTIMEZONE
TZID:Europe/Berlin
BEGIN:STANDARD
TZOFFSETFROM:+0200
TZOFFSETTO:+0100
DTSTART:20241027T010000
TZNAME:CET
END:STANDARD
END:VTIMEZONE
END:VCALENDAR
