BEGIN:VCALENDAR
VERSION:2.0
PRODID:-//Events | FID-Recht//NONSGML Events//EN
CALSCALE:GREGORIAN
X-ORIGINAL-URL:https://events.intrecht.de/termine/
X-WR-CALDESC:Events | FID-Recht - Events
BEGIN:VEVENT
UID:20220301T1854Z-1646160847.3409-EO-6026-1@172.16.200.141
STATUS:CONFIRMED
DTSTAMP:20260421T110657Z
CREATED:20220221T094824Z
LAST-MODIFIED:20220221T094824Z
DTSTART;VALUE=DATE:20221024
DTEND;VALUE=DATE:20221027
SUMMARY: Childhood at War and Genocide – Children’s experiences of conflict
  in the 20th and 21st century (Tagung)
DESCRIPTION: 24.-26.10.2022\, München (Frist für Einreichungen: 31.3.2022) 
 Mitteilung – Fritz Bauer Institut (fritz-bauer-institut.de)  
X-ALT-DESC;FMTTYPE=text/html: <p>24.-26.10.2022\, München (Frist für Einrei
 chungen: 31.3.2022)</p><p><a href="https://www.fritz-bauer-institut.de/mitt
 eilung/childhood-at-war-and-genocide">Mitteilung - Fritz Bauer Institut (fr
 itz-bauer-institut.de)</a></p><p> </p><p>[av_button label='iCal-Export' lin
 k='./feed/eo-events' link_target='' size='small' position='center' label_di
 splay='' title_attr='' icon_select='yes' icon='ue85b' font='entypo-fontello
 ' color='custom' custom_bg='#b5123e' custom_font='#ffffff' av_uid='' id='' 
 custom_class='' admin_preview_bg='']</p>
CATEGORIES:Europäisches / Internationales Recht,Recht interdisziplinär
LOCATION:Inland
GEO:0.000000;0.000000
ORGANIZER;CN="ViFa-Recht":MAILTO:vifa-recht@sbb.spk-berlin.de
URL;VALUE=URI:https://events.intrecht.de/termine/termin/childhood-at-war-an
 d-genocide-childrens-experiences-of-conflict-in-the-20th-and-21st-century-t
 agung/
END:VEVENT
BEGIN:VTIMEZONE
TZID:Europe/Berlin
BEGIN:DAYLIGHT
TZOFFSETFROM:+0100
TZOFFSETTO:+0200
DTSTART:20220327T010000
TZNAME:CEST
END:DAYLIGHT
END:VTIMEZONE
END:VCALENDAR
