BEGIN:VCALENDAR
VERSION:2.0
PRODID:-//Events | FID-Recht//NONSGML Events//EN
CALSCALE:GREGORIAN
X-ORIGINAL-URL:https://events.intrecht.de/termine/
X-WR-CALDESC:Events | FID-Recht - Events
BEGIN:VEVENT
UID:20201118T0653Z-1605682398.0725-EO-1823-1@172.16.200.141
STATUS:CONFIRMED
DTSTAMP:20260422T230740Z
CREATED:20201026T164713Z
LAST-MODIFIED:20201026T164713Z
DTSTART;VALUE=DATE:20201028
DTEND;VALUE=DATE:20201028
SUMMARY: Child Abuse Allegations in Custody Evaluations (mit Dr. Taina Laaj
 asalo\, im Rahmen des International Symposium „Forensic Psychology in Famil
 y Law“) (Online-Vortrag)
DESCRIPTION: 28.10.2020\, Online https://www.psychologische-hochschule.de/f
 orschung-lehre/fpfl/  
X-ALT-DESC;FMTTYPE=text/html: <p>28.10.2020\, Online</p><p><a href="https:/
 /www.psychologische-hochschule.de/forschung-lehre/fpfl/">https://www.psycho
 logische-hochschule.de/forschung-lehre/fpfl/</a></p><p> </p><p>[av_button l
 abel='iCal-Export' link='./feed/eo-events' link_target='' size='small' posi
 tion='center' label_display='' title_attr='' icon_select='yes' icon='ue85b'
  font='entypo-fontello' color='custom' custom_bg='#b5123e' custom_font='#ff
 ffff' av_uid='' id='' custom_class='' admin_preview_bg='']</p>
CATEGORIES:Zivilrecht
LOCATION:Online
GEO:0.000000;0.000000
ORGANIZER;CN="ViFa-Recht":MAILTO:vifa-recht@sbb.spk-berlin.de
URL;VALUE=URI:https://events.intrecht.de/termine/termin/child-abuse-allegat
 ions-in-custody-evaluations-mit-dr-taina-laajasalo-im-rahmen-des-internatio
 nal-symposium-forensic-psychology-in-family-law-online-vortrag/
END:VEVENT
BEGIN:VTIMEZONE
TZID:Europe/Berlin
BEGIN:STANDARD
TZOFFSETFROM:+0200
TZOFFSETTO:+0100
DTSTART:20201025T010000
TZNAME:CET
END:STANDARD
END:VTIMEZONE
END:VCALENDAR
