BEGIN:VCALENDAR
VERSION:2.0
PRODID:-//Events | FID-Recht//NONSGML Events//EN
CALSCALE:GREGORIAN
X-ORIGINAL-URL:https://events.intrecht.de/termine/
X-WR-CALDESC:Events | FID-Recht - Events
BEGIN:VEVENT
UID:20200603T1418Z-1591193923.3362-EO-587-1@172.16.200.141
STATUS:CONFIRMED
DTSTAMP:20260425T201911Z
CREATED:20230704T112438Z
LAST-MODIFIED:20230704T112438Z
DTSTART;VALUE=DATE:20231023
DTEND;VALUE=DATE:20231025
SUMMARY: Chemical and Biological Weapons: The Interconnectivity of Norms (I
 nterdisciplinary Conference)
DESCRIPTION: 23.-24.10.2023 / Gießen (Frist für Einreichungen: 30.7.2023) h
 ttps://www.uni-giessen.de/de/fbz/fb01/professuren-forschung/professuren/mar
 auhn/mediathek/dateien/chemical-and-biological-weapons-the-interconnectivit
 y-of-norms
X-ALT-DESC;FMTTYPE=text/html: <p>23.-24.10.2023 / Gießen <strong>(Frist für
  Einreichungen: 30.7.2023)</strong></p><p><a href="https://www.uni-giessen.
 de/de/fbz/fb01/professuren-forschung/professuren/marauhn/mediathek/dateien/
 chemical-and-biological-weapons-the-interconnectivity-of-norms">https://www
 .uni-giessen.de/de/fbz/fb01/professuren-forschung/professuren/marauhn/media
 thek/dateien/chemical-and-biological-weapons-the-interconnectivity-of-norms
 </a></p><p>[av_button label='iCal-Export' link='./feed/eo-events' link_targ
 et='' size='small' position='center' label_display='' title_attr='' icon_se
 lect='yes' icon='ue85b' font='entypo-fontello' color='custom' custom_bg='#b
 5123e' custom_font='#ffffff' av_uid='' id='' custom_class='' admin_preview_
 bg='']</p>
CATEGORIES:Recht interdisziplinär
LOCATION:Inland
GEO:0.000000;0.000000
ORGANIZER;CN="ViFa-Recht":MAILTO:vifa-recht@sbb.spk-berlin.de
URL;VALUE=URI:https://events.intrecht.de/termine/termin/chemical-and-biolog
 ical-weapons-the-interconnectivity-of-norms-interdisciplinary-conference/
END:VEVENT
BEGIN:VTIMEZONE
TZID:Europe/Berlin
BEGIN:DAYLIGHT
TZOFFSETFROM:+0100
TZOFFSETTO:+0200
DTSTART:20230326T010000
TZNAME:CEST
END:DAYLIGHT
END:VTIMEZONE
END:VCALENDAR
