BEGIN:VCALENDAR
VERSION:2.0
PRODID:-//Events | FID-Recht//NONSGML Events//EN
CALSCALE:GREGORIAN
X-ORIGINAL-URL:https://events.intrecht.de/termine/
X-WR-CALDESC:Events | FID-Recht - Events
BEGIN:VEVENT
UID:20211217T2231Z-1639780303.9885-EO-5615-1@172.16.200.141
STATUS:CONFIRMED
DTSTAMP:20260421T151944Z
CREATED:20211216T133022Z
LAST-MODIFIED:20211216T133022Z
DTSTART;VALUE=DATE:20211220
DTEND;VALUE=DATE:20211220
SUMMARY: Change over time in the Iberian Worlds – Stabilising regimes of no
 rmativity (Glocalising Normativities Annual Conference) (Tagung) (CfP)
DESCRIPTION: 19.-21.10.2022\, Frankfurt (Main) (Frist für Einreichungen: 20
 .12.2021) Change over time | Max-Planck-Institut für Rechtsgeschichte und R
 echtstheorie (mpg.de)  
X-ALT-DESC;FMTTYPE=text/html: <p>19.-21.10.2022\, Frankfurt (Main) (Frist f
 ür Einreichungen: 20.12.2021)</p><p><a href="https://www.lhlt.mpg.de/269077
 9/event22-10-19-change-over-time.html">Change over time | Max-Planck-Instit
 ut für Rechtsgeschichte und Rechtstheorie (mpg.de)</a></p><p> </p><p>[av_bu
 tton label='iCal-Export' link='./feed/eo-events' link_target='' size='small
 ' position='center' label_display='' title_attr='' icon_select='yes' icon='
 ue85b' font='entypo-fontello' color='custom' custom_bg='#b5123e' custom_fon
 t='#ffffff' av_uid='' id='' custom_class='' admin_preview_bg='']</p>
CATEGORIES:Recht interdisziplinär
LOCATION:Inland
GEO:0.000000;0.000000
ORGANIZER;CN="ViFa-Recht":MAILTO:vifa-recht@sbb.spk-berlin.de
URL;VALUE=URI:https://events.intrecht.de/termine/termin/change-over-time-in
 -the-iberian-worlds-stabilising-regimes-of-normativity-glocalising-normativ
 ities-annual-conference-tagung-cfp-2/
END:VEVENT
BEGIN:VTIMEZONE
TZID:Europe/Berlin
BEGIN:STANDARD
TZOFFSETFROM:+0200
TZOFFSETTO:+0100
DTSTART:20211031T010000
TZNAME:CET
END:STANDARD
END:VTIMEZONE
END:VCALENDAR
