BEGIN:VCALENDAR
VERSION:2.0
PRODID:-//Events | FID-Recht//NONSGML Events//EN
CALSCALE:GREGORIAN
X-ORIGINAL-URL:https://events.intrecht.de/termine/
X-WR-CALDESC:Events | FID-Recht - Events
BEGIN:VEVENT
UID:20220415T2322Z-1650064958.9933-EO-6665-1@172.16.200.141
STATUS:CONFIRMED
DTSTAMP:20260421T133419Z
CREATED:20220405T120404Z
LAST-MODIFIED:20220405T120404Z
DTSTART;VALUE=DATE:20220424
DTEND;VALUE=DATE:20220424
SUMMARY: Change and Resilience in International Law (Workshop) (CfP)
DESCRIPTION: 6.-8.10.2022\, Genf (Frist für Einreichungen: 24.4.2022) Call 
 for papers: „Change and Resilience in International Law“ | IHEID (graduatei
 nstitute.ch)  
X-ALT-DESC;FMTTYPE=text/html: <p>6.-8.10.2022\, Genf (Frist für Einreichung
 en: 24.4.2022)</p><p><a href="https://www.graduateinstitute.ch/communicatio
 ns/news/call-papers-change-and-resilience-international-law">Call for paper
 s: "Change and Resilience in International Law" | IHEID (graduateinstitute.
 ch)</a></p><p> </p><p>[av_button label='iCal-Export' link='./feed/eo-events
 ' link_target='' size='small' position='center' label_display='' title_attr
 ='' icon_select='yes' icon='ue85b' font='entypo-fontello' color='custom' cu
 stom_bg='#b5123e' custom_font='#ffffff' av_uid='' id='' custom_class='' adm
 in_preview_bg='']</p>
CATEGORIES:Europäisches / Internationales Recht
LOCATION:Ausland
GEO:0.000000;0.000000
ORGANIZER;CN="ViFa-Recht":MAILTO:vifa-recht@sbb.spk-berlin.de
URL;VALUE=URI:https://events.intrecht.de/termine/termin/change-and-resilien
 ce-in-international-law-workshop-cfp/
END:VEVENT
BEGIN:VTIMEZONE
TZID:Europe/Berlin
BEGIN:DAYLIGHT
TZOFFSETFROM:+0100
TZOFFSETTO:+0200
DTSTART:20220327T010000
TZNAME:CEST
END:DAYLIGHT
END:VTIMEZONE
END:VCALENDAR
