BEGIN:VCALENDAR
VERSION:2.0
PRODID:-//Events | FID-Recht//NONSGML Events//EN
CALSCALE:GREGORIAN
X-ORIGINAL-URL:https://events.intrecht.de/termine/
X-WR-CALDESC:Events | FID-Recht - Events
BEGIN:VEVENT
UID:20200603T1418Z-1591193923.3362-EO-587-1@172.16.200.141
STATUS:CONFIRMED
DTSTAMP:20260425T162517Z
CREATED:20230717T065231Z
LAST-MODIFIED:20230717T065231Z
DTSTART;VALUE=DATE:20231123
DTEND;VALUE=DATE:20231126
SUMMARY: Challenging Normativity in Pre-Modern Visual Culture (Internationa
 l Research-Conference)
DESCRIPTION: 23.-25.11.2023 / Bochum (Frist für Einreichungen: 1.10.2023) h
 ttps://arthist.net/archive/39764
X-ALT-DESC;FMTTYPE=text/html: <p>23.-25.11.2023 / Bochum <strong>(Frist für
  Einreichungen: 1.10.2023)</strong></p><p><a href="https://arthist.net/arch
 ive/39764">https://arthist.net/archive/39764</a></p><p>[av_button label='iC
 al-Export' link='./feed/eo-events' link_target='' size='small' position='ce
 nter' label_display='' title_attr='' icon_select='yes' icon='ue85b' font='e
 ntypo-fontello' color='custom' custom_bg='#b5123e' custom_font='#ffffff' av
 _uid='' id='' custom_class='' admin_preview_bg='']</p>
CATEGORIES:Recht interdisziplinär
LOCATION:Inland
GEO:0.000000;0.000000
ORGANIZER;CN="ViFa-Recht":MAILTO:vifa-recht@sbb.spk-berlin.de
URL;VALUE=URI:https://events.intrecht.de/termine/termin/challenging-normati
 vity-in-pre-modern-visual-culture-international-research-conference/
END:VEVENT
BEGIN:VTIMEZONE
TZID:Europe/Berlin
BEGIN:STANDARD
TZOFFSETFROM:+0200
TZOFFSETTO:+0100
DTSTART:20231029T010000
TZNAME:CET
END:STANDARD
END:VTIMEZONE
END:VCALENDAR
