BEGIN:VCALENDAR
VERSION:2.0
PRODID:-//Events | FID-Recht//NONSGML Events//EN
CALSCALE:GREGORIAN
X-ORIGINAL-URL:https://events.intrecht.de/termine/
X-WR-CALDESC:Events | FID-Recht - Events
BEGIN:VEVENT
UID:20200602T0945Z-1591091115.9737-EO-599-1@172.16.200.141
STATUS:CONFIRMED
DTSTAMP:20260425T224954Z
CREATED:20260310T090827Z
LAST-MODIFIED:20260310T090827Z
DTSTART;VALUE=DATE:20261007
DTEND;VALUE=DATE:20261010
SUMMARY: Challenges to International Orders: Causes and Consequences (Annua
 l Interdisciplinary WZB Conference 2026)
DESCRIPTION: 7.-9.10.2026 / Berlin (Einreichungsfrist: 23.4.2026) https://w
 zb.eu/system/files/docs/gf/p/p-stab/CfP_Annual%20Interdisciplinary%20WZB%20
 Conference%202026_Challenges%20to%20International%20Orders_1.pdf
X-ALT-DESC;FMTTYPE=text/html: <p>7.-9.10.2026 / Berlin <strong>(Einreichung
 sfrist: 23.4.2026)</strong></p><p><a href="https://wzb.eu/system/files/docs
 /gf/p/p-stab/CfP_Annual%20Interdisciplinary%20WZB%20Conference%202026_Chall
 enges%20to%20International%20Orders_1.pdf">https://wzb.eu/system/files/docs
 /gf/p/p-stab/CfP_Annual%20Interdisciplinary%20WZB%20Conference%202026_Chall
 enges%20to%20International%20Orders_1.pdf</a></p><p>[av_button label='iCal-
 Export' link='./feed/eo-events' link_target='' size='small' position='cente
 r' label_display='' title_attr='' icon_select='yes' icon='ue85b' font='enty
 po-fontello' color='custom' custom_bg='#b5123e' custom_font='#ffffff' av_ui
 d='' id='' custom_class='' admin_preview_bg='']</p>
CATEGORIES:Recht interdisziplinär
LOCATION:Inland
GEO:0.000000;0.000000
ORGANIZER;CN="ViFa-Recht":MAILTO:vifa-recht@sbb.spk-berlin.de
URL;VALUE=URI:https://events.intrecht.de/termine/termin/challenges-to-inter
 national-orders-causes-and-consequences-annual-interdisciplinary-wzb-confer
 ence-2026/
END:VEVENT
BEGIN:VTIMEZONE
TZID:Europe/Berlin
BEGIN:DAYLIGHT
TZOFFSETFROM:+0100
TZOFFSETTO:+0200
DTSTART:20260329T010000
TZNAME:CEST
END:DAYLIGHT
END:VTIMEZONE
END:VCALENDAR
