BEGIN:VCALENDAR
VERSION:2.0
PRODID:-//Events | FID-Recht//NONSGML Events//EN
CALSCALE:GREGORIAN
X-ORIGINAL-URL:https://events.intrecht.de/termine/
X-WR-CALDESC:Events | FID-Recht - Events
BEGIN:VEVENT
UID:20201019T0007Z-1603066022.3627-EO-1852-1@172.16.200.141
STATUS:CONFIRMED
DTSTAMP:20260421T133528Z
CREATED:20201012T150024Z
LAST-MODIFIED:20201123T120158Z
DTSTART;TZID=Europe/Berlin:20201125T140000
DTEND;TZID=Europe/Berlin:20201125T190000
SUMMARY: Celebrating the ‘Historical Turn’: International Law in Global His
 tories (29TH Annual SLSLS/BIICL Workshop on Theory & International Law) (On
 line-Workshop)
DESCRIPTION: 25.11.2020\, Online https://www.biicl.org/documents/10358_cfp_
 histories_of_international_law_v5_revised.pdf https://www.biicl.org/events/
 11364/29th-annual-slsbiicl-workshop-on-theory-in-international-law  
X-ALT-DESC;FMTTYPE=text/html: <p>25.11.2020\, Online</p><p><a href="https:/
 /www.biicl.org/documents/10358_cfp_histories_of_international_law_v5_revise
 d.pdf">https://www.biicl.org/documents/10358_cfp_histories_of_international
 _law_v5_revised.pdf</a></p><p><a href="https://www.biicl.org/events/11364/2
 9th-annual-slsbiicl-workshop-on-theory-in-international-law">https://www.bi
 icl.org/events/11364/29th-annual-slsbiicl-workshop-on-theory-in-internation
 al-law</a></p><p> </p><p>[av_button label='iCal-Export' link='./feed/eo-eve
 nts' link_target='' size='small' position='center' label_display='' title_a
 ttr='' icon_select='yes' icon='ue85b' font='entypo-fontello' color='custom'
  custom_bg='#b5123e' custom_font='#ffffff' av_uid='' id='' custom_class='' 
 admin_preview_bg='']</p>
CATEGORIES:Europäisches / Internationales Recht,Recht interdisziplinär
LOCATION:Online
GEO:0.000000;0.000000
ORGANIZER;CN="ViFa-Recht":MAILTO:vifa-recht@sbb.spk-berlin.de
URL;VALUE=URI:https://events.intrecht.de/termine/termin/celebrating-the-his
 torical-turn-international-law-in-global-histories-29th-annual-slsls-biicl-
 workshop-on-theory-international-law-online-workshop/
END:VEVENT
BEGIN:VTIMEZONE
TZID:Europe/Berlin
BEGIN:STANDARD
TZOFFSETFROM:+0200
TZOFFSETTO:+0100
DTSTART:20201025T010000
TZNAME:CET
END:STANDARD
END:VTIMEZONE
END:VCALENDAR
