BEGIN:VCALENDAR
VERSION:2.0
PRODID:-//Events | FID-Recht//NONSGML Events//EN
CALSCALE:GREGORIAN
X-ORIGINAL-URL:https://events.intrecht.de/termine/
X-WR-CALDESC:Events | FID-Recht - Events
BEGIN:VEVENT
UID:20200603T1418Z-1591193923.3362-EO-587-1@172.16.200.141
STATUS:CONFIRMED
DTSTAMP:20260423T035957Z
CREATED:20250513T134419Z
LAST-MODIFIED:20250513T134419Z
DTSTART;VALUE=DATE:20250527
DTEND;VALUE=DATE:20250529
SUMMARY: Capitalism\, Modernity and the Legal History of Precolonial India 
 (Workshop)
DESCRIPTION: 27.-28.5.2025 / Münster https://www.uni-muenster.de/EViR/veran
 staltungen/tagungenundworkshops/capitalism.html
X-ALT-DESC;FMTTYPE=text/html: <p>27.-28.5.2025 / Münster</p><p><a href="htt
 ps://www.uni-muenster.de/EViR/veranstaltungen/tagungenundworkshops/capitali
 sm.html">https://www.uni-muenster.de/EViR/veranstaltungen/tagungenundworksh
 ops/capitalism.html</a></p><p>[av_button label='iCal-Export' link='./feed/e
 o-events' link_target='' size='small' position='center' label_display='' ti
 tle_attr='' icon_select='yes' icon='ue85b' font='entypo-fontello' color='cu
 stom' custom_bg='#b5123e' custom_font='#ffffff' av_uid='' id='' custom_clas
 s='' admin_preview_bg='']</p>
CATEGORIES:Recht interdisziplinär
LOCATION:Inland
GEO:0.000000;0.000000
ORGANIZER;CN="ViFa-Recht":MAILTO:vifa-recht@sbb.spk-berlin.de
URL;VALUE=URI:https://events.intrecht.de/termine/termin/capitalism-modernit
 y-and-the-legal-history-of-precolonial-india-workshop/
END:VEVENT
BEGIN:VTIMEZONE
TZID:Europe/Berlin
BEGIN:DAYLIGHT
TZOFFSETFROM:+0100
TZOFFSETTO:+0200
DTSTART:20250330T010000
TZNAME:CEST
END:DAYLIGHT
END:VTIMEZONE
END:VCALENDAR
