BEGIN:VCALENDAR
VERSION:2.0
PRODID:-//Events | FID-Recht//NONSGML Events//EN
CALSCALE:GREGORIAN
X-ORIGINAL-URL:https://events.intrecht.de/termine/
X-WR-CALDESC:Events | FID-Recht - Events
BEGIN:VEVENT
UID:20200603T1418Z-1591193923.3362-EO-587-1@172.16.200.141
STATUS:CONFIRMED
DTSTAMP:20260425T200404Z
CREATED:20231115T142627Z
LAST-MODIFIED:20231115T142627Z
DTSTART;VALUE=DATE:20231128
DTEND;VALUE=DATE:20231129
SUMMARY: Capital Accumulation\, Racialisation and the Politics of Ecocide (
 Hybrid-Event)
DESCRIPTION: 28.11.2023 / Online und Oxford https://www.law.ox.ac.uk/conten
 t/event/capital-accumulation-racialisation-and-politics-ecocide
X-ALT-DESC;FMTTYPE=text/html: <p>28.11.2023 / Online und Oxford</p><p><a hr
 ef="https://www.law.ox.ac.uk/content/event/capital-accumulation-racialisati
 on-and-politics-ecocide">https://www.law.ox.ac.uk/content/event/capital-acc
 umulation-racialisation-and-politics-ecocide</a></p><p>[av_button label='iC
 al-Export' link='./feed/eo-events' link_target='' size='small' position='ce
 nter' label_display='' title_attr='' icon_select='yes' icon='ue85b' font='e
 ntypo-fontello' color='custom' custom_bg='#b5123e' custom_font='#ffffff' av
 _uid='' id='' custom_class='' admin_preview_bg='']</p>
CATEGORIES:Recht interdisziplinär
LOCATION:Online
GEO:0.000000;0.000000
ORGANIZER;CN="ViFa-Recht":MAILTO:vifa-recht@sbb.spk-berlin.de
URL;VALUE=URI:https://events.intrecht.de/termine/termin/capital-accumulatio
 n-racialisation-and-the-politics-of-ecocide-hybrid-event/
END:VEVENT
BEGIN:VTIMEZONE
TZID:Europe/Berlin
BEGIN:STANDARD
TZOFFSETFROM:+0200
TZOFFSETTO:+0100
DTSTART:20231029T010000
TZNAME:CET
END:STANDARD
END:VTIMEZONE
END:VCALENDAR
