BEGIN:VCALENDAR
VERSION:2.0
PRODID:-//Events | FID-Recht//NONSGML Events//EN
CALSCALE:GREGORIAN
X-ORIGINAL-URL:https://events.intrecht.de/termine/
X-WR-CALDESC:Events | FID-Recht - Events
BEGIN:VEVENT
UID:20201221T1145Z-1608551147.6148-EO-2946-1@172.16.200.141
STATUS:CONFIRMED
DTSTAMP:20260421T115341Z
CREATED:20201218T113357Z
LAST-MODIFIED:20201218T113357Z
DTSTART;VALUE=DATE:20210912
DTEND;VALUE=DATE:20210916
SUMMARY: Capabilities and Transformative Institutions (2021 HDCA Conference
 ) (Hybrid-Konferenz)
DESCRIPTION: 12.-15.9.2021\, Antwerpen/Online (Frist für Einreichungen: 15.
 2.2021) https://hd-ca.org/wp-content/uploads/2020/11/Call_for_Proposals_HDC
 A_2021_Final.pdf  
X-ALT-DESC;FMTTYPE=text/html: <p>12.-15.9.2021\, Antwerpen/Online (Frist fü
 r Einreichungen: 15.2.2021)</p><p><a href="https://hd-ca.org/wp-content/upl
 oads/2020/11/Call_for_Proposals_HDCA_2021_Final.pdf">https://hd-ca.org/wp-c
 ontent/uploads/2020/11/Call_for_Proposals_HDCA_2021_Final.pdf</a></p><p> </
 p><p>[av_button label='iCal-Export' link='./feed/eo-events' link_target='' 
 size='small' position='center' label_display='' title_attr='' icon_select='
 yes' icon='ue85b' font='entypo-fontello' color='custom' custom_bg='#b5123e'
  custom_font='#ffffff' av_uid='' id='' custom_class='' admin_preview_bg='']
 </p>
CATEGORIES:Europäisches / Internationales Recht,Recht interdisziplinär
LOCATION:Online
GEO:0.000000;0.000000
ORGANIZER;CN="ViFa-Recht":MAILTO:vifa-recht@sbb.spk-berlin.de
URL;VALUE=URI:https://events.intrecht.de/termine/termin/capabilities-and-tr
 ansformative-institutions-2021-hdca-conference-hybrid-konferenz/
END:VEVENT
BEGIN:VTIMEZONE
TZID:Europe/Berlin
BEGIN:DAYLIGHT
TZOFFSETFROM:+0100
TZOFFSETTO:+0200
DTSTART:20210328T010000
TZNAME:CEST
END:DAYLIGHT
END:VTIMEZONE
END:VCALENDAR
