BEGIN:VCALENDAR
VERSION:2.0
PRODID:-//Events | FID-Recht//NONSGML Events//EN
CALSCALE:GREGORIAN
X-ORIGINAL-URL:https://events.intrecht.de/termine/
X-WR-CALDESC:Events | FID-Recht - Events
BEGIN:VEVENT
UID:20200603T1418Z-1591193923.3362-EO-587-1@172.16.200.141
STATUS:CONFIRMED
DTSTAMP:20260422T123452Z
CREATED:20240411T161216Z
LAST-MODIFIED:20240411T161216Z
DTSTART;VALUE=DATE:20240521
DTEND;VALUE=DATE:20240522
SUMMARY: Can the Judiciary Defend Democracy? (Werkstattgespräch)
DESCRIPTION: 21.5.2024 / Online und Berlin https://www.rewi.hu-berlin.de/de
 /lf/oe/lsi/werkstattgespraech-can-the-judiciary-defend-democracy-mit-campbe
 ll-macgillivray-universitaet-goettingen
X-ALT-DESC;FMTTYPE=text/html: <p>21.5.2024 / Online und Berlin</p><p><a hre
 f="https://www.rewi.hu-berlin.de/de/lf/oe/lsi/werkstattgespraech-can-the-ju
 diciary-defend-democracy-mit-campbell-macgillivray-universitaet-goettingen"
 >https://www.rewi.hu-berlin.de/de/lf/oe/lsi/werkstattgespraech-can-the-judi
 ciary-defend-democracy-mit-campbell-macgillivray-universitaet-goettingen</a
 ></p><p>[av_button label='iCal-Export' link='./feed/eo-events' link_target=
 '' size='small' position='center' label_display='' title_attr='' icon_selec
 t='yes' icon='ue85b' font='entypo-fontello' color='custom' custom_bg='#b512
 3e' custom_font='#ffffff' av_uid='' id='' custom_class='' admin_preview_bg=
 '']</p>
CATEGORIES:Recht interdisziplinär
LOCATION:Hybrid
GEO:0.000000;0.000000
ORGANIZER;CN="ViFa-Recht":MAILTO:vifa-recht@sbb.spk-berlin.de
URL;VALUE=URI:https://events.intrecht.de/termine/termin/can-the-judiciary-d
 efend-democracy-werkstattgespraech/
END:VEVENT
BEGIN:VTIMEZONE
TZID:Europe/Berlin
BEGIN:DAYLIGHT
TZOFFSETFROM:+0100
TZOFFSETTO:+0200
DTSTART:20240331T010000
TZNAME:CEST
END:DAYLIGHT
END:VTIMEZONE
END:VCALENDAR
