BEGIN:VCALENDAR
VERSION:2.0
PRODID:-//Events | FID-Recht//NONSGML Events//EN
CALSCALE:GREGORIAN
X-ORIGINAL-URL:https://events.intrecht.de/termine/
X-WR-CALDESC:Events | FID-Recht - Events
BEGIN:VEVENT
UID:20200603T1418Z-1591193923.3362-EO-587-1@172.16.200.141
STATUS:CONFIRMED
DTSTAMP:20260422T175346Z
CREATED:20231219T154537Z
LAST-MODIFIED:20231219T154537Z
DTSTART;VALUE=DATE:20240109
DTEND;VALUE=DATE:20240110
SUMMARY: Can Private Parties Contract out of the Hague Service Convention? 
 (Virtual Workshop / Current Research in Private International Law)
DESCRIPTION: 9.1.2024 / Online https://events.mpipriv.de/workshop_with_jie_
 huang
X-ALT-DESC;FMTTYPE=text/html: <p>9.1.2024 / Online</p><p><a href="https://e
 vents.mpipriv.de/workshop_with_jie_huang">https://events.mpipriv.de/worksho
 p_with_jie_huang</a></p><p>[av_button label='iCal-Export' link='./feed/eo-e
 vents' link_target='' size='small' position='center' label_display='' title
 _attr='' icon_select='yes' icon='ue85b' font='entypo-fontello' color='custo
 m' custom_bg='#b5123e' custom_font='#ffffff' av_uid='' id='' custom_class='
 ' admin_preview_bg='']</p>
CATEGORIES:Zivilrecht
LOCATION:Online
GEO:0.000000;0.000000
ORGANIZER;CN="ViFa-Recht":MAILTO:vifa-recht@sbb.spk-berlin.de
URL;VALUE=URI:https://events.intrecht.de/termine/termin/can-private-parties
 -contract-out-of-the-hague-service-convention-virtual-workshop-current-rese
 arch-in-private-international-law/
END:VEVENT
BEGIN:VTIMEZONE
TZID:Europe/Berlin
BEGIN:STANDARD
TZOFFSETFROM:+0200
TZOFFSETTO:+0100
DTSTART:20231029T010000
TZNAME:CET
END:STANDARD
END:VTIMEZONE
END:VCALENDAR
