BEGIN:VCALENDAR
VERSION:2.0
PRODID:-//Events | FID-Recht//NONSGML Events//EN
CALSCALE:GREGORIAN
X-ORIGINAL-URL:https://events.intrecht.de/termine/
X-WR-CALDESC:Events | FID-Recht - Events
BEGIN:VEVENT
UID:20200603T1418Z-1591193923.3362-EO-587-1@172.16.200.141
STATUS:CONFIRMED
DTSTAMP:20260423T003136Z
CREATED:20250507T092450Z
LAST-MODIFIED:20250507T092450Z
DTSTART;VALUE=DATE:20250526
DTEND;VALUE=DATE:20250527
SUMMARY: Can courts protect democracy? (Online Event / Conversations with J
 udges)
DESCRIPTION: 26.5.2025 / Online https://www.rewi.hu-berlin.de/de/lf/oe/lsi/
 conversations-with-judges-can-courts-protect-democracy-daphne-barak-erez
X-ALT-DESC;FMTTYPE=text/html: <p>26.5.2025 / Online</p><p><a href="https://
 www.rewi.hu-berlin.de/de/lf/oe/lsi/conversations-with-judges-can-courts-pro
 tect-democracy-daphne-barak-erez">https://www.rewi.hu-berlin.de/de/lf/oe/ls
 i/conversations-with-judges-can-courts-protect-democracy-daphne-barak-erez<
 /a></p><p>[av_button label='iCal-Export' link='./feed/eo-events' link_targe
 t='' size='small' position='center' label_display='' title_attr='' icon_sel
 ect='yes' icon='ue85b' font='entypo-fontello' color='custom' custom_bg='#b5
 123e' custom_font='#ffffff' av_uid='' id='' custom_class='' admin_preview_b
 g='']</p>
CATEGORIES:Recht interdisziplinär
LOCATION:Online
GEO:0.000000;0.000000
ORGANIZER;CN="ViFa-Recht":MAILTO:vifa-recht@sbb.spk-berlin.de
URL;VALUE=URI:https://events.intrecht.de/termine/termin/can-courts-protect-
 democracy-online-event-conversations-with-judges/
END:VEVENT
BEGIN:VTIMEZONE
TZID:Europe/Berlin
BEGIN:DAYLIGHT
TZOFFSETFROM:+0100
TZOFFSETTO:+0200
DTSTART:20250330T010000
TZNAME:CEST
END:DAYLIGHT
END:VTIMEZONE
END:VCALENDAR
