BEGIN:VCALENDAR
VERSION:2.0
PRODID:-//Events | FID-Recht//NONSGML Events//EN
CALSCALE:GREGORIAN
X-ORIGINAL-URL:https://events.intrecht.de/termine/
X-WR-CALDESC:Events | FID-Recht - Events
BEGIN:VEVENT
UID:20200603T1418Z-1591193923.3362-EO-587-1@172.16.200.141
STATUS:CONFIRMED
DTSTAMP:20260423T054146Z
CREATED:20250513T134626Z
LAST-MODIFIED:20250513T134626Z
DTSTART;VALUE=DATE:20250619
DTEND;VALUE=DATE:20250620
SUMMARY: Can courts protect democracy? (Discussion / Conversations with Jud
 ges)
DESCRIPTION: 19.6.2025 / Berlin https://www.rewi.hu-berlin.de/de/lf/oe/lsi/
 conversations-with-judges-can-courts-protect-democracy-mansoor-ali-shah
X-ALT-DESC;FMTTYPE=text/html: <p>19.6.2025 / Berlin</p><p><a href="https://
 www.rewi.hu-berlin.de/de/lf/oe/lsi/conversations-with-judges-can-courts-pro
 tect-democracy-mansoor-ali-shah">https://www.rewi.hu-berlin.de/de/lf/oe/lsi
 /conversations-with-judges-can-courts-protect-democracy-mansoor-ali-shah</a
 ></p><p>[av_button label='iCal-Export' link='./feed/eo-events' link_target=
 '' size='small' position='center' label_display='' title_attr='' icon_selec
 t='yes' icon='ue85b' font='entypo-fontello' color='custom' custom_bg='#b512
 3e' custom_font='#ffffff' av_uid='' id='' custom_class='' admin_preview_bg=
 '']</p>
CATEGORIES:Recht interdisziplinär
LOCATION:Inland
GEO:0.000000;0.000000
ORGANIZER;CN="ViFa-Recht":MAILTO:vifa-recht@sbb.spk-berlin.de
URL;VALUE=URI:https://events.intrecht.de/termine/termin/can-courts-protect-
 democracy-discussion-conversations-with-judges/
END:VEVENT
BEGIN:VTIMEZONE
TZID:Europe/Berlin
BEGIN:DAYLIGHT
TZOFFSETFROM:+0100
TZOFFSETTO:+0200
DTSTART:20250330T010000
TZNAME:CEST
END:DAYLIGHT
END:VTIMEZONE
END:VCALENDAR
