BEGIN:VCALENDAR
VERSION:2.0
PRODID:-//Events | FID-Recht//NONSGML Events//EN
CALSCALE:GREGORIAN
X-ORIGINAL-URL:https://events.intrecht.de/termine/
X-WR-CALDESC:Events | FID-Recht - Events
BEGIN:VEVENT
UID:20201217T0418Z-1608178727.2854-EO-2656-1@172.16.200.141
STATUS:CONFIRMED
DTSTAMP:20260421T102649Z
CREATED:20201201T184448Z
LAST-MODIFIED:20201201T184448Z
DTSTART;VALUE=DATE:20201211
DTEND;VALUE=DATE:20201211
SUMMARY: But what does the law say? Reading legal texts socio-legally (Onli
 ne-Workshop)
DESCRIPTION: 11.12.2020\, Online\, (Anmeldefrist: 1.12.2020) https://www.la
 w.ox.ac.uk/events/what-does-law-say-reading-legal-texts-socio-legally  
X-ALT-DESC;FMTTYPE=text/html: <p>11.12.2020\, Online\, (Anmeldefrist: 1.12.
 2020)</p><p><a href="https://www.law.ox.ac.uk/events/what-does-law-say-read
 ing-legal-texts-socio-legally">https://www.law.ox.ac.uk/events/what-does-la
 w-say-reading-legal-texts-socio-legally</a></p><p> </p><p>[av_button label=
 'iCal-Export' link='./feed/eo-events' link_target='' size='small' position=
 'center' label_display='' title_attr='' icon_select='yes' icon='ue85b' font
 ='entypo-fontello' color='custom' custom_bg='#b5123e' custom_font='#ffffff'
  av_uid='' id='' custom_class='' admin_preview_bg='']</p>
CATEGORIES:Recht interdisziplinär
LOCATION:Online
GEO:0.000000;0.000000
ORGANIZER;CN="ViFa-Recht":MAILTO:vifa-recht@sbb.spk-berlin.de
URL;VALUE=URI:https://events.intrecht.de/termine/termin/but-what-does-the-l
 aw-say-reading-legal-texts-socio-legally-online-workshop/
END:VEVENT
BEGIN:VTIMEZONE
TZID:Europe/Berlin
BEGIN:STANDARD
TZOFFSETFROM:+0200
TZOFFSETTO:+0100
DTSTART:20201025T010000
TZNAME:CET
END:STANDARD
END:VTIMEZONE
END:VCALENDAR
