BEGIN:VCALENDAR
VERSION:2.0
PRODID:-//Events | FID-Recht//NONSGML Events//EN
CALSCALE:GREGORIAN
X-ORIGINAL-URL:https://events.intrecht.de/termine/
X-WR-CALDESC:Events | FID-Recht - Events
BEGIN:VEVENT
UID:20200603T1418Z-1591193923.3362-EO-587-1@172.16.200.141
STATUS:CONFIRMED
DTSTAMP:20260422T154427Z
CREATED:20240809T073249Z
LAST-MODIFIED:20240809T073249Z
DTSTART;VALUE=DATE:20241001
DTEND;VALUE=DATE:20241004
SUMMARY: Business and Human Rights in Asia Pacific (Hybrid Event / Colloqui
 um)
DESCRIPTION: 1.-3.10.2024 / Online und Surabaya https://docs.google.com/for
 ms/d/e/1FAIpQLSft7-1YXwMuwJXTVb3Go9wv9PXSBsUR95vU5XKMNE8oaAEaVg/viewform
X-ALT-DESC;FMTTYPE=text/html: <p>1.-3.10.2024 / Online und Surabaya</p><p><
 a href="https://docs.google.com/forms/d/e/1FAIpQLSft7-1YXwMuwJXTVb3Go9wv9PX
 SBsUR95vU5XKMNE8oaAEaVg/viewform">https://docs.google.com/forms/d/e/1FAIpQL
 Sft7-1YXwMuwJXTVb3Go9wv9PXSBsUR95vU5XKMNE8oaAEaVg/viewform</a></p><p>[av_bu
 tton label='iCal-Export' link='./feed/eo-events' link_target='' size='small
 ' position='center' label_display='' title_attr='' icon_select='yes' icon='
 ue85b' font='entypo-fontello' color='custom' custom_bg='#b5123e' custom_fon
 t='#ffffff' av_uid='' id='' custom_class='' admin_preview_bg='']</p>
CATEGORIES:Europäisches / Internationales Recht
LOCATION:Hybrid
GEO:0.000000;0.000000
ORGANIZER;CN="ViFa-Recht":MAILTO:vifa-recht@sbb.spk-berlin.de
URL;VALUE=URI:https://events.intrecht.de/termine/termin/business-and-human-
 rights-in-asia-pacific-hybrid-event-colloquium/
END:VEVENT
BEGIN:VTIMEZONE
TZID:Europe/Berlin
BEGIN:DAYLIGHT
TZOFFSETFROM:+0100
TZOFFSETTO:+0200
DTSTART:20240331T010000
TZNAME:CEST
END:DAYLIGHT
END:VTIMEZONE
END:VCALENDAR
