BEGIN:VCALENDAR
VERSION:2.0
PRODID:-//Events | FID-Recht//NONSGML Events//EN
CALSCALE:GREGORIAN
X-ORIGINAL-URL:https://events.intrecht.de/termine/
X-WR-CALDESC:Events | FID-Recht - Events
BEGIN:VEVENT
UID:20200603T1418Z-1591193923.3362-EO-587-1@172.16.200.141
STATUS:CONFIRMED
DTSTAMP:20260422T192442Z
CREATED:20241104T134534Z
LAST-MODIFIED:20241104T134534Z
DTSTART;VALUE=DATE:20241205
DTEND;VALUE=DATE:20241207
SUMMARY: Business and Human Rights – A Comparative Regional Perspective (Hy
 brid Workshop)
DESCRIPTION: 5.-6.12.2024 / Online und Pretoria https://www.ifhv.de/news/wu
 n-bhr-workshop-pretoria
X-ALT-DESC;FMTTYPE=text/html: <p>5.-6.12.2024 / Online und Pretoria</p><p><
 a href="https://www.ifhv.de/news/wun-bhr-workshop-pretoria">https://www.ifh
 v.de/news/wun-bhr-workshop-pretoria</a></p><p>[av_button label='iCal-Export
 ' link='./feed/eo-events' link_target='' size='small' position='center' lab
 el_display='' title_attr='' icon_select='yes' icon='ue85b' font='entypo-fon
 tello' color='custom' custom_bg='#b5123e' custom_font='#ffffff' av_uid='' i
 d='' custom_class='' admin_preview_bg='']</p>
CATEGORIES:Europäisches / Internationales Recht
LOCATION:Hybrid
GEO:0.000000;0.000000
ORGANIZER;CN="ViFa-Recht":MAILTO:vifa-recht@sbb.spk-berlin.de
URL;VALUE=URI:https://events.intrecht.de/termine/termin/business-and-human-
 rights-a-comparative-regional-perspective-hybrid-workshop/
END:VEVENT
BEGIN:VTIMEZONE
TZID:Europe/Berlin
BEGIN:STANDARD
TZOFFSETFROM:+0200
TZOFFSETTO:+0100
DTSTART:20241027T010000
TZNAME:CET
END:STANDARD
END:VTIMEZONE
END:VCALENDAR
