BEGIN:VCALENDAR
VERSION:2.0
PRODID:-//Events | FID-Recht//NONSGML Events//EN
CALSCALE:GREGORIAN
X-ORIGINAL-URL:https://events.intrecht.de/termine/
X-WR-CALDESC:Events | FID-Recht - Events
BEGIN:VEVENT
UID:20201029T2214Z-1604009698.1848-EO-1816-1@172.16.200.141
STATUS:CONFIRMED
DTSTAMP:20260423T023230Z
CREATED:20201026T165800Z
LAST-MODIFIED:20201026T170039Z
DTSTART;VALUE=DATE:20201030
DTEND;VALUE=DATE:20201031
SUMMARY: Brown Lawyers\, Black Robes: Decolonization\, Diasporic Lawyers an
 d Minority Rights (Legal Histories of Empire symposium with Rohit De) (Onli
 ne-Vortrag)
DESCRIPTION: 30.10.2020\, Online https://www.eventbrite.com.au/e/legal-hist
 ories-of-empire-symposium-tickets-125282891501  
X-ALT-DESC;FMTTYPE=text/html: <p>30.10.2020\, Online</p><p><a href="https:/
 /www.eventbrite.com.au/e/legal-histories-of-empire-symposium-tickets-125282
 891501">https://www.eventbrite.com.au/e/legal-histories-of-empire-symposium
 -tickets-125282891501</a></p><p> </p><p>[av_button label='iCal-Export' link
 ='./feed/eo-events' link_target='' size='small' position='center' label_dis
 play='' title_attr='' icon_select='yes' icon='ue85b' font='entypo-fontello'
  color='custom' custom_bg='#b5123e' custom_font='#ffffff' av_uid='' id='' c
 ustom_class='' admin_preview_bg='']</p>
CATEGORIES:Europäisches / Internationales Recht,Recht interdisziplinär
LOCATION:Online
GEO:0.000000;0.000000
ORGANIZER;CN="ViFa-Recht":MAILTO:vifa-recht@sbb.spk-berlin.de
URL;VALUE=URI:https://events.intrecht.de/termine/termin/brown-lawyers-black
 -robes-decolonization-diasporic-lawyers-and-minority-rights-legal-histories
 -of-empire-symposium-with-rohit-de-online-vortrag/
END:VEVENT
BEGIN:VTIMEZONE
TZID:Europe/Berlin
BEGIN:STANDARD
TZOFFSETFROM:+0200
TZOFFSETTO:+0100
DTSTART:20201025T010000
TZNAME:CET
END:STANDARD
END:VTIMEZONE
END:VCALENDAR
