BEGIN:VCALENDAR
VERSION:2.0
PRODID:-//Events | FID-Recht//NONSGML Events//EN
CALSCALE:GREGORIAN
X-ORIGINAL-URL:https://events.intrecht.de/termine/
X-WR-CALDESC:Events | FID-Recht - Events
BEGIN:VEVENT
UID:20201021T0248Z-1603248508.5037-EO-1409-1@172.16.200.141
STATUS:CONFIRMED
DTSTAMP:20260421T184527Z
CREATED:20201012T142213Z
LAST-MODIFIED:20210111T144439Z
DTSTART;VALUE=DATE:20200918
DTEND;VALUE=DATE:20200919
SUMMARY: Bridging the gap between new technologies\, health research and th
 e protection of personal data (GDPR impact conference) (Online-Tagung)
DESCRIPTION: 18.9.2020\, Online https://id.univie.ac.at/aktivitaeten/tvb-cl
 oud-conference/    
X-ALT-DESC;FMTTYPE=text/html: <p>18.9.2020\, Online</p><p><a href="https://
 id.univie.ac.at/aktivitaeten/tvb-cloud-conference/">https://id.univie.ac.at
 /aktivitaeten/tvb-cloud-conference/</a></p><p> </p><p> </p><p>[av_button la
 bel='iCal-Export' link='./feed/eo-events' link_target='' size='small' posit
 ion='center' label_display='' title_attr='' icon_select='yes' icon='ue85b' 
 font='entypo-fontello' color='custom' custom_bg='#b5123e' custom_font='#fff
 fff' av_uid='' id='' custom_class='' admin_preview_bg='']</p>
CATEGORIES:Recht interdisziplinär
LOCATION:Online
GEO:0.000000;0.000000
ORGANIZER;CN="Frontend-Submission":MAILTO:florian.schwalenberg@sbb.spk-berl
 in.de
URL;VALUE=URI:https://events.intrecht.de/termine/termin/bridging-the-gap-be
 tween-new-technologies-health-research-and-the-protection-of-personal-data-
 gdpr-impact-conference-online-tagung/
END:VEVENT
BEGIN:VTIMEZONE
TZID:Europe/Berlin
BEGIN:DAYLIGHT
TZOFFSETFROM:+0100
TZOFFSETTO:+0200
DTSTART:20200329T010000
TZNAME:CEST
END:DAYLIGHT
END:VTIMEZONE
END:VCALENDAR
