BEGIN:VCALENDAR
VERSION:2.0
PRODID:-//Events | FID-Recht//NONSGML Events//EN
CALSCALE:GREGORIAN
X-ORIGINAL-URL:https://events.intrecht.de/termine/
X-WR-CALDESC:Events | FID-Recht - Events
BEGIN:VEVENT
UID:20201216T2345Z-1608162306.7432-EO-2603-1@172.16.200.141
STATUS:CONFIRMED
DTSTAMP:20260425T233251Z
CREATED:20201127T115511Z
LAST-MODIFIED:20201127T115511Z
DTSTART;VALUE=DATE:20201211
DTEND;VALUE=DATE:20201211
SUMMARY: Brexit and Private International Law (Online-Konferenz)
DESCRIPTION: 11.12.2020\, Online https://eapil.org/2020/11/23/brexit-and-pr
 ivate-international-law-register-now-for-the-first-eapil-virtual-seminar/  
X-ALT-DESC;FMTTYPE=text/html: <p>11.12.2020\, Online</p><p><a href="https:/
 /eapil.org/2020/11/23/brexit-and-private-international-law-register-now-for
 -the-first-eapil-virtual-seminar/">https://eapil.org/2020/11/23/brexit-and-
 private-international-law-register-now-for-the-first-eapil-virtual-seminar/
 </a></p><p> </p><p>[av_button label='iCal-Export' link='./feed/eo-events' l
 ink_target='' size='small' position='center' label_display='' title_attr=''
  icon_select='yes' icon='ue85b' font='entypo-fontello' color='custom' custo
 m_bg='#b5123e' custom_font='#ffffff' av_uid='' id='' custom_class='' admin_
 preview_bg='']</p>
CATEGORIES:Zivilrecht
LOCATION:Online
GEO:0.000000;0.000000
ORGANIZER;CN="ViFa-Recht":MAILTO:vifa-recht@sbb.spk-berlin.de
URL;VALUE=URI:https://events.intrecht.de/termine/termin/brexit-and-private-
 international-law-online-konferenz/
END:VEVENT
BEGIN:VTIMEZONE
TZID:Europe/Berlin
BEGIN:STANDARD
TZOFFSETFROM:+0200
TZOFFSETTO:+0100
DTSTART:20201025T010000
TZNAME:CET
END:STANDARD
END:VTIMEZONE
END:VCALENDAR
