BEGIN:VCALENDAR
VERSION:2.0
PRODID:-//Events | FID-Recht//NONSGML Events//EN
CALSCALE:GREGORIAN
X-ORIGINAL-URL:https://events.intrecht.de/termine/
X-WR-CALDESC:Events | FID-Recht - Events
BEGIN:VEVENT
UID:20220626T1135Z-1656243318.0081-EO-4304-1@172.16.200.151
STATUS:CONFIRMED
DTSTAMP:20260421T133415Z
CREATED:20220623T131405Z
LAST-MODIFIED:20220623T131415Z
DTSTART;VALUE=DATE:20220630
DTEND;VALUE=DATE:20220702
SUMMARY: Braucht eine dezentrierte Geschichte von Land und Recht auch einen
  Eigentumsbegriff? (Tagung)
DESCRIPTION: 30.6.-1.7.2022\, Essen Symposium | Max Planck Institute for Le
 gal History and Legal Theory (mpg.de)  
X-ALT-DESC;FMTTYPE=text/html: <p>30.6.-1.7.2022\, Essen</p><p><a href="http
 s://www.lhlt.mpg.de/events/31396/2078412">Symposium | Max Planck Institute 
 for Legal History and Legal Theory (mpg.de)</a></p><p> </p><p>[av_button la
 bel='iCal-Export' link='./feed/eo-events' link_target='' size='small' posit
 ion='center' label_display='' title_attr='' icon_select='yes' icon='ue85b' 
 font='entypo-fontello' color='custom' custom_bg='#b5123e' custom_font='#fff
 fff' av_uid='' id='' custom_class='' admin_preview_bg='']</p>
CATEGORIES:Recht interdisziplinär,Zivilrecht
LOCATION:Inland
GEO:0.000000;0.000000
ORGANIZER;CN="ViFa-Recht":MAILTO:vifa-recht@sbb.spk-berlin.de
URL;VALUE=URI:https://events.intrecht.de/termine/termin/braucht-eine-dezent
 rierte-geschichte-von-land-und-recht-auch-einen-eigentumsbegriff-tagung/
END:VEVENT
BEGIN:VTIMEZONE
TZID:Europe/Berlin
BEGIN:DAYLIGHT
TZOFFSETFROM:+0100
TZOFFSETTO:+0200
DTSTART:20220327T010000
TZNAME:CEST
END:DAYLIGHT
END:VTIMEZONE
END:VCALENDAR
