BEGIN:VCALENDAR
VERSION:2.0
PRODID:-//Events | FID-Recht//NONSGML Events//EN
CALSCALE:GREGORIAN
X-ORIGINAL-URL:https://events.intrecht.de/termine/
X-WR-CALDESC:Events | FID-Recht - Events
BEGIN:VEVENT
UID:20200603T1418Z-1591193923.3362-EO-587-1@172.16.200.141
STATUS:CONFIRMED
DTSTAMP:20260425T122115Z
CREATED:20230620T163409Z
LAST-MODIFIED:20230620T163409Z
DTSTART;VALUE=DATE:20230626
DTEND;VALUE=DATE:20230627
SUMMARY: Brauchen wir Eigenrechte der Natur? Ursprünge und aktuelle Bedeutu
 ng im internationalen Vergleich (Paneldiskussion)
DESCRIPTION: 26.6.2023 / Berlin https://www.jura.fu-berlin.de/fachbereich/e
 inrichtungen/oeffentliches-recht/lehrende/calliessc/Aktuelles/Ressourcen/Ei
 nladung_EigenrechteNatur.pdf
X-ALT-DESC;FMTTYPE=text/html: <p>26.6.2023 / Berlin</p><p><a href="https://
 www.jura.fu-berlin.de/fachbereich/einrichtungen/oeffentliches-recht/lehrend
 e/calliessc/Aktuelles/Ressourcen/Einladung_EigenrechteNatur.pdf">https://ww
 w.jura.fu-berlin.de/fachbereich/einrichtungen/oeffentliches-recht/lehrende/
 calliessc/Aktuelles/Ressourcen/Einladung_EigenrechteNatur.pdf</a></p><p>[av
 _button label='iCal-Export' link='./feed/eo-events' link_target='' size='sm
 all' position='center' label_display='' title_attr='' icon_select='yes' ico
 n='ue85b' font='entypo-fontello' color='custom' custom_bg='#b5123e' custom_
 font='#ffffff' av_uid='' id='' custom_class='' admin_preview_bg='']</p>
CATEGORIES:Recht interdisziplinär
LOCATION:Inland
GEO:0.000000;0.000000
ORGANIZER;CN="ViFa-Recht":MAILTO:vifa-recht@sbb.spk-berlin.de
URL;VALUE=URI:https://events.intrecht.de/termine/termin/brauchen-wir-eigenr
 echte-der-natur-urspruenge-und-aktuelle-bedeutung-im-internationalen-vergle
 ich-paneldiskussion/
END:VEVENT
BEGIN:VTIMEZONE
TZID:Europe/Berlin
BEGIN:DAYLIGHT
TZOFFSETFROM:+0100
TZOFFSETTO:+0200
DTSTART:20230326T010000
TZNAME:CEST
END:DAYLIGHT
END:VTIMEZONE
END:VCALENDAR
