BEGIN:VCALENDAR
VERSION:2.0
PRODID:-//Events | FID-Recht//NONSGML Events//EN
CALSCALE:GREGORIAN
X-ORIGINAL-URL:https://events.intrecht.de/termine/
X-WR-CALDESC:Events | FID-Recht - Events
BEGIN:VEVENT
UID:20201003T0105Z-1601687136.1668-EO-1648-1@172.16.200.141
STATUS:CONFIRMED
DTSTAMP:20260422T032042Z
CREATED:20201002T102514Z
LAST-MODIFIED:20201002T102514Z
DTSTART;VALUE=DATE:20201001
DTEND;VALUE=DATE:20201001
SUMMARY: Book launch online event: Decolonising the University
DESCRIPTION: 1.10.2020 (14 Uhr BST)\, Online https://criticallegalthinking.
 com/2020/09/09/decolonize-uok-book-launch-discussion-panel/  
X-ALT-DESC;FMTTYPE=text/html: <p>1.10.2020 (14 Uhr BST)\, Online</p><p><a h
 ref="https://criticallegalthinking.com/2020/09/09/decolonize-uok-book-launc
 h-discussion-panel/">https://criticallegalthinking.com/2020/09/09/decoloniz
 e-uok-book-launch-discussion-panel/</a></p><p> </p><p>[av_button label='iCa
 l-Export' link='./feed/eo-events' link_target='' size='small' position='cen
 ter' label_display='' title_attr='' icon_select='yes' icon='ue85b' font='en
 typo-fontello' color='custom' custom_bg='#b5123e' custom_font='#ffffff' av_
 uid='' id='' custom_class='' admin_preview_bg='']</p>
CATEGORIES:Recht interdisziplinär
LOCATION:Online
GEO:0.000000;0.000000
ORGANIZER;CN="ViFa-Recht":MAILTO:vifa-recht@sbb.spk-berlin.de
URL;VALUE=URI:https://events.intrecht.de/termine/termin/book-launch-online-
 event-decolonising-the-university/
END:VEVENT
BEGIN:VTIMEZONE
TZID:Europe/Berlin
BEGIN:DAYLIGHT
TZOFFSETFROM:+0100
TZOFFSETTO:+0200
DTSTART:20200329T010000
TZNAME:CEST
END:DAYLIGHT
END:VTIMEZONE
END:VCALENDAR
