BEGIN:VCALENDAR
VERSION:2.0
PRODID:-//Events | FID-Recht//NONSGML Events//EN
CALSCALE:GREGORIAN
X-ORIGINAL-URL:https://events.intrecht.de/termine/
X-WR-CALDESC:Events | FID-Recht - Events
BEGIN:VEVENT
UID:20210124T1224Z-1611491057.6345-EO-2528-1@172.16.200.141
STATUS:CONFIRMED
DTSTAMP:20260421T151506Z
CREATED:20210121T194234Z
LAST-MODIFIED:20210121T194246Z
DTSTART;TZID=Europe/Berlin:20210127T180000
DTEND;TZID=Europe/Berlin:20210127T200000
SUMMARY: Böses Verhalten. Attentate durch Amoktäter und terroristische Einz
 eltäter – Ursachen und Hintergründe (mit Britta Bannenberg) (Online-Vortrag
 )
DESCRIPTION: 27.1.2021\, Online https://www.wiko-greifswald.de/programm/all
 gemeines/veranstaltungskalender/veranstaltung/n/boeses-verhalten-attentate-
 durch-amoktaeter-und-terroristische-einzeltaeter-ursachen-und-hintergruend/
     
X-ALT-DESC;FMTTYPE=text/html: <p>27.1.2021\, Online</p><p><a href="https://
 www.wiko-greifswald.de/programm/allgemeines/veranstaltungskalender/veransta
 ltung/n/boeses-verhalten-attentate-durch-amoktaeter-und-terroristische-einz
 eltaeter-ursachen-und-hintergruend/">https://www.wiko-greifswald.de/program
 m/allgemeines/veranstaltungskalender/veranstaltung/n/boeses-verhalten-atten
 tate-durch-amoktaeter-und-terroristische-einzeltaeter-ursachen-und-hintergr
 uend/</a></p><p> </p><p> </p><p>[av_button label='iCal-Export' link='./feed
 /eo-events' link_target='' size='small' position='center' label_display='' 
 title_attr='' icon_select='yes' icon='ue85b' font='entypo-fontello' color='
 custom' custom_bg='#b5123e' custom_font='#ffffff' av_uid='' id='' custom_cl
 ass='' admin_preview_bg='']</p>
CATEGORIES:Strafrecht
LOCATION:Online
GEO:0.000000;0.000000
ORGANIZER;CN="ViFa-Recht":MAILTO:vifa-recht@sbb.spk-berlin.de
URL;VALUE=URI:https://events.intrecht.de/termine/termin/boeses-verhalten-at
 tentate-durch-amoktaeter-und-terroristische-einzeltaeter-ursachen-und-hinte
 rgruende-mit-britta-bannenberg-online-vortrag/
END:VEVENT
BEGIN:VTIMEZONE
TZID:Europe/Berlin
BEGIN:STANDARD
TZOFFSETFROM:+0200
TZOFFSETTO:+0100
DTSTART:20201025T010000
TZNAME:CET
END:STANDARD
END:VTIMEZONE
END:VCALENDAR
