BEGIN:VCALENDAR
VERSION:2.0
PRODID:-//Events | FID-Recht//NONSGML Events//EN
CALSCALE:GREGORIAN
X-ORIGINAL-URL:https://events.intrecht.de/termine/
X-WR-CALDESC:Events | FID-Recht - Events
BEGIN:VEVENT
UID:20200603T1418Z-1591193923.3362-EO-587-1@172.16.200.141
STATUS:CONFIRMED
DTSTAMP:20260423T003257Z
CREATED:20250827T102120Z
LAST-MODIFIED:20250827T102144Z
DTSTART;VALUE=DATE:20250925
DTEND;VALUE=DATE:20250927
SUMMARY: Blue Economy and International Law Marine Commodities in the 21st 
 Century (Workshop)
DESCRIPTION: 25.-26.9.2025 / Kiel https://www.uni-kiel.de/de/jura/detailans
 icht/news/blue-economy-and-international-law-marine-commodities-in-the-21-s
 t-century
X-ALT-DESC;FMTTYPE=text/html: <p>25.-26.9.2025 / Kiel</p><p><a href="https:
 //www.uni-kiel.de/de/jura/detailansicht/news/blue-economy-and-international
 -law-marine-commodities-in-the-21-st-century">https://www.uni-kiel.de/de/ju
 ra/detailansicht/news/blue-economy-and-international-law-marine-commodities
 -in-the-21-st-century</a></p><p>[av_button label='iCal-Export' link='./feed
 /eo-events' link_target='' size='small' position='center' label_display='' 
 title_attr='' icon_select='yes' icon='ue85b' font='entypo-fontello' color='
 custom' custom_bg='#b5123e' custom_font='#ffffff' av_uid='' id='' custom_cl
 ass='' admin_preview_bg='']</p>
CATEGORIES:Europäisches / Internationales Recht
LOCATION:Inland
GEO:0.000000;0.000000
ORGANIZER;CN="ViFa-Recht":MAILTO:vifa-recht@sbb.spk-berlin.de
URL;VALUE=URI:https://events.intrecht.de/termine/termin/blue-economy-and-in
 ternational-law-marine-commodities-in-the-21-st-century-workshop/
END:VEVENT
BEGIN:VTIMEZONE
TZID:Europe/Berlin
BEGIN:DAYLIGHT
TZOFFSETFROM:+0100
TZOFFSETTO:+0200
DTSTART:20250330T010000
TZNAME:CEST
END:DAYLIGHT
END:VTIMEZONE
END:VCALENDAR
