BEGIN:VCALENDAR
VERSION:2.0
PRODID:-//Events | FID-Recht//NONSGML Events//EN
CALSCALE:GREGORIAN
X-ORIGINAL-URL:https://events.intrecht.de/termine/
X-WR-CALDESC:Events | FID-Recht - Events
BEGIN:VEVENT
UID:20200603T1418Z-1591193923.3362-EO-587-1@172.16.200.141
STATUS:CONFIRMED
DTSTAMP:20260423T052652Z
CREATED:20250423T131842Z
LAST-MODIFIED:20250423T131842Z
DTSTART;VALUE=DATE:20250924
DTEND;VALUE=DATE:20250928
SUMMARY: Blinde Flecken der Zivilrechtswissenschaft (Jahrestagung Gesellsch
 aft Junge Zivilrechtswissenschaft)
DESCRIPTION: 24.-27.9.2025 / Rheingau (Einreichungsfrist: 30.4.2025) https:
 //junge.zivilrechtswissenschaft.de/tagungen/call
X-ALT-DESC;FMTTYPE=text/html: <p>24.-27.9.2025 / Rheingau <strong>(Einreich
 ungsfrist: 30.4.2025)</strong></p><p><a href="https://junge.zivilrechtswiss
 enschaft.de/tagungen/call">https://junge.zivilrechtswissenschaft.de/tagunge
 n/call</a></p><p>[av_button label='iCal-Export' link='./feed/eo-events' lin
 k_target='' size='small' position='center' label_display='' title_attr='' i
 con_select='yes' icon='ue85b' font='entypo-fontello' color='custom' custom_
 bg='#b5123e' custom_font='#ffffff' av_uid='' id='' custom_class='' admin_pr
 eview_bg='']</p>
CATEGORIES:Zivilrecht
LOCATION:Inland
GEO:0.000000;0.000000
ORGANIZER;CN="ViFa-Recht":MAILTO:vifa-recht@sbb.spk-berlin.de
URL;VALUE=URI:https://events.intrecht.de/termine/termin/blinde-flecken-der-
 zivilrechtswissenschaft-jahrestagung-gesellschaft-junge-zivilrechtswissensc
 haft/
END:VEVENT
BEGIN:VTIMEZONE
TZID:Europe/Berlin
BEGIN:DAYLIGHT
TZOFFSETFROM:+0100
TZOFFSETTO:+0200
DTSTART:20250330T010000
TZNAME:CEST
END:DAYLIGHT
END:VTIMEZONE
END:VCALENDAR
