BEGIN:VCALENDAR
VERSION:2.0
PRODID:-//Events | FID-Recht//NONSGML Events//EN
CALSCALE:GREGORIAN
X-ORIGINAL-URL:https://events.intrecht.de/termine/
X-WR-CALDESC:Events | FID-Recht - Events
BEGIN:VEVENT
UID:20230414T2038Z-1681504719.6407-EO-12827-1@172.16.200.151
STATUS:CONFIRMED
DTSTAMP:20260423T083249Z
CREATED:20230221T093802Z
LAST-MODIFIED:20230221T093802Z
DTSTART;VALUE=DATE:20230301
DTEND;VALUE=DATE:20230302
SUMMARY: Blickpunkt Mosambik: Nach dem Konflikt – Vor dem Frieden? (Podiums
 gespräch)
DESCRIPTION: 1.3.2023 / Online und München https://dgvn.de/aktivitaeten/ein
 zelansicht/blickpunkt-mosambik-nach-dem-konflikt-vor-dem-frieden  
X-ALT-DESC;FMTTYPE=text/html: <p>1.3.2023 / Online und München</p><p><a hre
 f="https://dgvn.de/aktivitaeten/einzelansicht/blickpunkt-mosambik-nach-dem-
 konflikt-vor-dem-frieden">https://dgvn.de/aktivitaeten/einzelansicht/blickp
 unkt-mosambik-nach-dem-konflikt-vor-dem-frieden</a></p><p> </p><p>[av_butto
 n label='iCal-Export' link='./feed/eo-events' link_target='' size='small' p
 osition='center' label_display='' title_attr='' icon_select='yes' icon='ue8
 5b' font='entypo-fontello' color='custom' custom_bg='#b5123e' custom_font='
 #ffffff' av_uid='' id='' custom_class='' admin_preview_bg='']</p>
CATEGORIES:Recht interdisziplinär
LOCATION:Online
GEO:0.000000;0.000000
ORGANIZER;CN="ViFa-Recht":MAILTO:vifa-recht@sbb.spk-berlin.de
URL;VALUE=URI:https://events.intrecht.de/termine/termin/blickpunkt-mosambik
 -nach-dem-konflikt-vor-dem-frieden-podiumsgespraech-2/
END:VEVENT
BEGIN:VTIMEZONE
TZID:Europe/Berlin
BEGIN:STANDARD
TZOFFSETFROM:+0200
TZOFFSETTO:+0100
DTSTART:20221030T010000
TZNAME:CET
END:STANDARD
END:VTIMEZONE
END:VCALENDAR
