BEGIN:VCALENDAR
VERSION:2.0
PRODID:-//Events | FID-Recht//NONSGML Events//EN
CALSCALE:GREGORIAN
X-ORIGINAL-URL:https://events.intrecht.de/termine/
X-WR-CALDESC:Events | FID-Recht - Events
BEGIN:VEVENT
UID:20200603T1418Z-1591193923.3362-EO-587-1@172.16.200.141
STATUS:CONFIRMED
DTSTAMP:20260422T173930Z
CREATED:20241115T145559Z
LAST-MODIFIED:20241115T145559Z
DTSTART;VALUE=DATE:20241126
DTEND;VALUE=DATE:20241127
SUMMARY: Bleibefreiheit und Selbsteigentum der Natur im Anthropozän (Hybrid
  Event)
DESCRIPTION: 26.11.2024 / Online und Frankfurt am Main https://contrust.uni
 -frankfurt.de/event/bleibefreiheit-und-selbsteigentum-der-natur-im-anthropo
 zaen/
X-ALT-DESC;FMTTYPE=text/html: <p>26.11.2024 / Online und Frankfurt am Main<
 /p><p><a href="https://contrust.uni-frankfurt.de/event/bleibefreiheit-und-s
 elbsteigentum-der-natur-im-anthropozaen/">https://contrust.uni-frankfurt.de
 /event/bleibefreiheit-und-selbsteigentum-der-natur-im-anthropozaen/</a></p>
 <p>[av_button label='iCal-Export' link='./feed/eo-events' link_target='' si
 ze='small' position='center' label_display='' title_attr='' icon_select='ye
 s' icon='ue85b' font='entypo-fontello' color='custom' custom_bg='#b5123e' c
 ustom_font='#ffffff' av_uid='' id='' custom_class='' admin_preview_bg='']</
 p>
CATEGORIES:Recht interdisziplinär
LOCATION:Hybrid
GEO:0.000000;0.000000
ORGANIZER;CN="ViFa-Recht":MAILTO:vifa-recht@sbb.spk-berlin.de
URL;VALUE=URI:https://events.intrecht.de/termine/termin/bleibefreiheit-und-
 selbsteigentum-der-natur-im-anthropozaen-hybrid-event/
END:VEVENT
BEGIN:VTIMEZONE
TZID:Europe/Berlin
BEGIN:STANDARD
TZOFFSETFROM:+0200
TZOFFSETTO:+0100
DTSTART:20241027T010000
TZNAME:CET
END:STANDARD
END:VTIMEZONE
END:VCALENDAR
