BEGIN:VCALENDAR
VERSION:2.0
PRODID:-//Events | FID-Recht//NONSGML Events//EN
CALSCALE:GREGORIAN
X-ORIGINAL-URL:https://events.intrecht.de/termine/
X-WR-CALDESC:Events | FID-Recht - Events
BEGIN:VEVENT
UID:20201030T0030Z-1604017845.2175-EO-1809-1@172.16.200.141
STATUS:CONFIRMED
DTSTAMP:20260422T213423Z
CREATED:20201026T160804Z
LAST-MODIFIED:20201026T161123Z
DTSTART;VALUE=DATE:20201027
DTEND;VALUE=DATE:20201028
SUMMARY: Bildung und Demokratie. Oder: Die Utopie der Gleichheit (mit Hedwi
 g Richter im Rahmen der Verleihung des Anna Krüger Preises) (Festvortrag)
DESCRIPTION: Laudatio: Dr. Wolfgang Schäuble 27.10.2020\, Berlin https://ww
 w.wiko-berlin.de/veranstaltungen/veranstaltungskalender/2020-10-27-verleihu
 ng-des-anna-krueger-preises-an-hedwig-richter  
X-ALT-DESC;FMTTYPE=text/html: <p>Laudatio: Dr. Wolfgang Schäuble</p><p>27.1
 0.2020\, Berlin</p><p><a href="https://www.wiko-berlin.de/veranstaltungen/v
 eranstaltungskalender/2020-10-27-verleihung-des-anna-krueger-preises-an-hed
 wig-richter">https://www.wiko-berlin.de/veranstaltungen/veranstaltungskalen
 der/2020-10-27-verleihung-des-anna-krueger-preises-an-hedwig-richter</a></p
 ><p> </p><p>[av_button label='iCal-Export' link='./feed/eo-events' link_tar
 get='' size='small' position='center' label_display='' title_attr='' icon_s
 elect='yes' icon='ue85b' font='entypo-fontello' color='custom' custom_bg='#
 b5123e' custom_font='#ffffff' av_uid='' id='' custom_class='' admin_preview
 _bg='']</p>
CATEGORIES:Recht interdisziplinär
LOCATION:Inland
GEO:0.000000;0.000000
ORGANIZER;CN="ViFa-Recht":MAILTO:vifa-recht@sbb.spk-berlin.de
URL;VALUE=URI:https://events.intrecht.de/termine/termin/bildung-und-demokra
 tie-oder-die-utopie-der-gleichheit-mit-hedwig-richter-im-rahmen-der-verleih
 ung-des-anna-krueger-preises-festvortrag/
END:VEVENT
BEGIN:VTIMEZONE
TZID:Europe/Berlin
BEGIN:STANDARD
TZOFFSETFROM:+0200
TZOFFSETTO:+0100
DTSTART:20201025T010000
TZNAME:CET
END:STANDARD
END:VTIMEZONE
END:VCALENDAR
