BEGIN:VCALENDAR
VERSION:2.0
PRODID:-//Events | FID-Recht//NONSGML Events//EN
CALSCALE:GREGORIAN
X-ORIGINAL-URL:https://events.intrecht.de/termine/
X-WR-CALDESC:Events | FID-Recht - Events
BEGIN:VEVENT
UID:20200603T1418Z-1591193923.3362-EO-587-1@172.16.200.141
STATUS:CONFIRMED
DTSTAMP:20260425T183112Z
CREATED:20230704T113030Z
LAST-MODIFIED:20230704T113030Z
DTSTART;VALUE=DATE:20231129
DTEND;VALUE=DATE:20231202
SUMMARY: Biennial Conference Latin American Society for International Law (
 SLADI): Latin American International Law
DESCRIPTION: 29.11.-1.12.2023 / São Paulo (Frist für Einreichungen: 31.7.20
 23) https://www.lasil.org/copy-of-investment-human-rights-s?lang=en
X-ALT-DESC;FMTTYPE=text/html: <p>29.11.-1.12.2023 / São Paulo <strong>(Fris
 t für Einreichungen: 31.7.2023)</strong></p><p><a href="https://www.lasil.o
 rg/copy-of-investment-human-rights-s?lang=en">https://www.lasil.org/copy-of
 -investment-human-rights-s?lang=en</a></p><p>[av_button label='iCal-Export'
  link='./feed/eo-events' link_target='' size='small' position='center' labe
 l_display='' title_attr='' icon_select='yes' icon='ue85b' font='entypo-font
 ello' color='custom' custom_bg='#b5123e' custom_font='#ffffff' av_uid='' id
 ='' custom_class='' admin_preview_bg='']</p>
CATEGORIES:Europäisches / Internationales Recht
LOCATION:Ausland
GEO:0.000000;0.000000
ORGANIZER;CN="ViFa-Recht":MAILTO:vifa-recht@sbb.spk-berlin.de
URL;VALUE=URI:https://events.intrecht.de/termine/termin/biennial-conference
 -latin-american-society-for-international-law-sladi-latin-american-internat
 ional-law/
END:VEVENT
BEGIN:VTIMEZONE
TZID:Europe/Berlin
BEGIN:STANDARD
TZOFFSETFROM:+0200
TZOFFSETTO:+0100
DTSTART:20231029T010000
TZNAME:CET
END:STANDARD
END:VTIMEZONE
END:VCALENDAR
