BEGIN:VCALENDAR
VERSION:2.0
PRODID:-//Events | FID-Recht//NONSGML Events//EN
CALSCALE:GREGORIAN
X-ORIGINAL-URL:https://events.intrecht.de/termine/
X-WR-CALDESC:Events | FID-Recht - Events
BEGIN:VEVENT
UID:20200603T1418Z-1591193923.3362-EO-587-1@172.16.200.141
STATUS:CONFIRMED
DTSTAMP:20260423T003318Z
CREATED:20250617T094253Z
LAST-MODIFIED:20250617T094342Z
DTSTART;VALUE=DATE:20260129
DTEND;VALUE=DATE:20260131
SUMMARY: Beyond the State. New Perspectives on the Conceptual Relationships
  Between Constitution and Society (Conference)
DESCRIPTION: 29.-30.1.2026 / Paris (Einreichungsfrist: 3.7.2025) https://ww
 w.iconnectblog.com/call-for-papers-international-conference-beyond-the-stat
 e-new-perspectives-on-the-conceptual-relationships-between-constitution-and
 -society/
X-ALT-DESC;FMTTYPE=text/html: <p>29.-30.1.2026 / Paris <strong>(Einreichung
 sfrist: 3.7.2025)</strong></p><p><a href="https://www.iconnectblog.com/call
 -for-papers-international-conference-beyond-the-state-new-perspectives-on-t
 he-conceptual-relationships-between-constitution-and-society/">https://www.
 iconnectblog.com/call-for-papers-international-conference-beyond-the-state-
 new-perspectives-on-the-conceptual-relationships-between-constitution-and-s
 ociety/</a></p><p>[av_button label='iCal-Export' link='./feed/eo-events' li
 nk_target='' size='small' position='center' label_display='' title_attr='' 
 icon_select='yes' icon='ue85b' font='entypo-fontello' color='custom' custom
 _bg='#b5123e' custom_font='#ffffff' av_uid='' id='' custom_class='' admin_p
 review_bg='']</p>
CATEGORIES:Europäisches / Internationales Recht
LOCATION:Ausland
GEO:0.000000;0.000000
ORGANIZER;CN="ViFa-Recht":MAILTO:vifa-recht@sbb.spk-berlin.de
URL;VALUE=URI:https://events.intrecht.de/termine/termin/beyond-the-state-ne
 w-perspectives-on-the-conceptual-relationships-between-constitution-and-soc
 iety-conference/
END:VEVENT
BEGIN:VTIMEZONE
TZID:Europe/Berlin
BEGIN:STANDARD
TZOFFSETFROM:+0200
TZOFFSETTO:+0100
DTSTART:20251026T010000
TZNAME:CET
END:STANDARD
END:VTIMEZONE
END:VCALENDAR
