BEGIN:VCALENDAR
VERSION:2.0
PRODID:-//Events | FID-Recht//NONSGML Events//EN
CALSCALE:GREGORIAN
X-ORIGINAL-URL:https://events.intrecht.de/termine/
X-WR-CALDESC:Events | FID-Recht - Events
BEGIN:VEVENT
UID:20200603T1418Z-1591193923.3362-EO-587-1@172.16.200.141
STATUS:CONFIRMED
DTSTAMP:20260422T173901Z
CREATED:20240619T183935Z
LAST-MODIFIED:20240619T183935Z
DTSTART;VALUE=DATE:20240702
DTEND;VALUE=DATE:20240703
SUMMARY: Beyond the Presumption Against Extraterritoriality (Virtual Worksh
 op / Current Research in Private International Law)
DESCRIPTION: 2.7.2024 / Online https://events.mpipriv.de/b?p=current_resear
 ch_with_maggie_gardner
X-ALT-DESC;FMTTYPE=text/html: <p>2.7.2024 / Online</p><p><a href="https://e
 vents.mpipriv.de/b?p=current_research_with_maggie_gardner">https://events.m
 pipriv.de/b?p=current_research_with_maggie_gardner</a></p><p>[av_button lab
 el='iCal-Export' link='./feed/eo-events' link_target='' size='small' positi
 on='center' label_display='' title_attr='' icon_select='yes' icon='ue85b' f
 ont='entypo-fontello' color='custom' custom_bg='#b5123e' custom_font='#ffff
 ff' av_uid='' id='' custom_class='' admin_preview_bg='']</p>
CATEGORIES:Zivilrecht
LOCATION:Online
GEO:0.000000;0.000000
ORGANIZER;CN="ViFa-Recht":MAILTO:vifa-recht@sbb.spk-berlin.de
URL;VALUE=URI:https://events.intrecht.de/termine/termin/beyond-the-presumpt
 ion-against-extraterritoriality-virtual-workshop-current-research-in-privat
 e-international-law/
END:VEVENT
BEGIN:VTIMEZONE
TZID:Europe/Berlin
BEGIN:DAYLIGHT
TZOFFSETFROM:+0100
TZOFFSETTO:+0200
DTSTART:20240331T010000
TZNAME:CEST
END:DAYLIGHT
END:VTIMEZONE
END:VCALENDAR
