BEGIN:VCALENDAR
VERSION:2.0
PRODID:-//Events | FID-Recht//NONSGML Events//EN
CALSCALE:GREGORIAN
X-ORIGINAL-URL:https://events.intrecht.de/termine/
X-WR-CALDESC:Events | FID-Recht - Events
BEGIN:VEVENT
UID:20211002T0838Z-1633163885.9505-EO-4421-1@172.16.200.141
STATUS:CONFIRMED
DTSTAMP:20260425T151224Z
CREATED:20210927T155349Z
LAST-MODIFIED:20220523T082201Z
DTSTART;VALUE=DATE:20220629
DTEND;VALUE=DATE:20220702
SUMMARY: Beyond the Pale – Legal Histories on the Edges of Empires (Konfere
 nz)
DESCRIPTION: 30.6.-2.7.2021\, Maynooth University – NEUER TERMIN: 29.6.-1.7
 .2022 (Frist für Einreichungen: 31.10.2021) General Information – Legal His
 tories of EmpiresLegal Histories of Empires (lhbe.org)  
X-ALT-DESC;FMTTYPE=text/html: <p>30.6.-2.7.2021\, Maynooth University – NEU
 ER TERMIN: 29.6.-1.7.2022 (Frist für Einreichungen: 31.10.2021)</p><p><a hr
 ef="https://lhbe.org/legal-histories-of-empires-current-conference-beyond-t
 he-pale/">General Information - Legal Histories of EmpiresLegal Histories o
 f Empires (lhbe.org)</a></p><p> </p><p>[av_button label='iCal-Export' link=
 './feed/eo-events' link_target='' size='small' position='center' label_disp
 lay='' title_attr='' icon_select='yes' icon='ue85b' font='entypo-fontello' 
 color='custom' custom_bg='#b5123e' custom_font='#ffffff' av_uid='' id='' cu
 stom_class='' admin_preview_bg='']</p>
CATEGORIES:Recht interdisziplinär
LOCATION:Ausland
GEO:0.000000;0.000000
ORGANIZER;CN="ViFa-Recht":MAILTO:vifa-recht@sbb.spk-berlin.de
URL;VALUE=URI:https://events.intrecht.de/termine/termin/beyond-the-pale-leg
 al-histories-on-the-edges-of-empires-konferenz-2/
END:VEVENT
BEGIN:VTIMEZONE
TZID:Europe/Berlin
BEGIN:DAYLIGHT
TZOFFSETFROM:+0100
TZOFFSETTO:+0200
DTSTART:20220327T010000
TZNAME:CEST
END:DAYLIGHT
END:VTIMEZONE
END:VCALENDAR
