BEGIN:VCALENDAR
VERSION:2.0
PRODID:-//Events | FID-Recht//NONSGML Events//EN
CALSCALE:GREGORIAN
X-ORIGINAL-URL:https://events.intrecht.de/termine/
X-WR-CALDESC:Events | FID-Recht - Events
BEGIN:VEVENT
UID:20200602T0945Z-1591091115.9737-EO-599-1@172.16.200.141
STATUS:CONFIRMED
DTSTAMP:20260423T035223Z
CREATED:20251120T132352Z
LAST-MODIFIED:20251120T132352Z
DTSTART;VALUE=DATE:20251118
DTEND;VALUE=DATE:20251119
SUMMARY: Bevölkerungssorgen und Migrationskontrolle: ein Blick auf Debatten
  und Rechtsentwicklung in den letzten 50 Jahren (Tuesday Dialogues)
DESCRIPTION: 18.11.2025 / Online https://einstein-diversity.com/event/bevol
 kerungssorgen-und-migrationskontrolle-ein-blick-auf-debatten-und-rechtsentw
 icklung-in-den-letzten-50-jahren-demographic-concerns-and-migration-control
 -a-look-at-debates-and-legal-developments/
X-ALT-DESC;FMTTYPE=text/html: <p>18.11.2025 / Online</p><p><a href="https:/
 /einstein-diversity.com/event/bevolkerungssorgen-und-migrationskontrolle-ei
 n-blick-auf-debatten-und-rechtsentwicklung-in-den-letzten-50-jahren-demogra
 phic-concerns-and-migration-control-a-look-at-debates-and-legal-development
 s/">https://einstein-diversity.com/event/bevolkerungssorgen-und-migrationsk
 ontrolle-ein-blick-auf-debatten-und-rechtsentwicklung-in-den-letzten-50-jah
 ren-demographic-concerns-and-migration-control-a-look-at-debates-and-legal-
 developments/</a></p><p>[av_button label='iCal-Export' link='./feed/eo-even
 ts' link_target='' size='small' position='center' label_display='' title_at
 tr='' icon_select='yes' icon='ue85b' font='entypo-fontello' color='custom' 
 custom_bg='#b5123e' custom_font='#ffffff' av_uid='' id='' custom_class='' a
 dmin_preview_bg='']</p>
CATEGORIES:Recht interdisziplinär
LOCATION:Online
GEO:0.000000;0.000000
ORGANIZER;CN="ViFa-Recht":MAILTO:vifa-recht@sbb.spk-berlin.de
URL;VALUE=URI:https://events.intrecht.de/termine/termin/bevoelkerungssorgen
 -und-migrationskontrolle-ein-blick-auf-debatten-und-rechtsentwicklung-in-de
 n-letzten-50-jahren-tuesday-dialogues/
END:VEVENT
BEGIN:VTIMEZONE
TZID:Europe/Berlin
BEGIN:STANDARD
TZOFFSETFROM:+0200
TZOFFSETTO:+0100
DTSTART:20251026T010000
TZNAME:CET
END:STANDARD
END:VTIMEZONE
END:VCALENDAR
